BEGIN:VCALENDAR
VERSION:2.0
PRODID:-//IVADO - ECPv6.5.0//NONSGML v1.0//EN
CALSCALE:GREGORIAN
METHOD:PUBLISH
X-ORIGINAL-URL:https://vieux.ivado.ca
X-WR-CALDESC:évènements pour IVADO
REFRESH-INTERVAL;VALUE=DURATION:PT1H
X-Robots-Tag:noindex
X-PUBLISHED-TTL:PT1H
BEGIN:VTIMEZONE
TZID:America/New_York
BEGIN:DAYLIGHT
TZOFFSETFROM:-0500
TZOFFSETTO:-0400
TZNAME:EDT
DTSTART:20180311T070000
END:DAYLIGHT
BEGIN:STANDARD
TZOFFSETFROM:-0400
TZOFFSETTO:-0500
TZNAME:EST
DTSTART:20181104T060000
END:STANDARD
END:VTIMEZONE
BEGIN:VEVENT
DTSTART;TZID=America/New_York:20180305T080000
DTEND;TZID=America/New_York:20180309T170000
DTSTAMP:20260422T044625
CREATED:20180124T230147Z
LAST-MODIFIED:20200205T153801Z
UID:8313-1520236800-1520614800@vieux.ivado.ca
SUMMARY:École d'hiver en apprentissage profond IVADO/MILA
DESCRIPTION:L’apprentissage profond est une technique d’apprentissage automatique (machine learning) qui a considérablement amélioré les résultats précédents entre autres en vision par ordinateur\, en reconnaissance de la parole ou en traduction automatique. De nombreux autres domaines sont touchés par cette nouvelle technologie\, ou vont l’être.  Face à l’intérêt suscité par cette technologie\, et face aux besoins de formation\, IVADO et le MILA (l’un de laboratoires pionniers dans le domaine) offrent une semaine de formation du 5 au 9 mars 2018. À la fin de cette semaine les participants seront aptes à intervenir sur des projets dans le domaine et auront le bagage nécessaire pour continuer par eux-mêmes leur apprentissage\, une fois revenus dans leur milieu de travail\, ou d’étude. \nPlus d’infos ici >>
URL:https://vieux.ivado.ca/evenement/ecole-dhiver-apprentissage-profond-ivado-mila/
ATTACH;FMTTYPE=image/png:https://vieux.ivado.ca/wp-content/uploads/2018/01/EcoleHiverIVADO2018.png
END:VEVENT
BEGIN:VEVENT
DTSTART;VALUE=DATE:20180312
DTEND;VALUE=DATE:20180314
DTSTAMP:20260422T044625
CREATED:20180208T214748Z
LAST-MODIFIED:20200128T194722Z
UID:8418-1520812800-1520985599@vieux.ivado.ca
SUMMARY:Journées québécoises de valorisation des données IVADO/CRDM
DESCRIPTION:L’Institut de valorisation des données (IVADO) et le Centre de recherche en données massives (CRDM) de l’Université Laval sont très heureux de vous inviter à la première édition des Journées québécoises de valorisation des données! \nCet événement de référence en science des données se tiendra les 12 et 13 mars 2018 à l’amphithéâtre Banque Nationale de HEC Montréal. Ces journées se veulent un rendez-vous de chercheurs et d’industriels qui souhaitent faire une réflexion sur leurs recherches et les impacts sociaux de celles-ci dans le domaine du big data et de l’IA. \nNos conférenciers / panélistes : \n \n  \nCocktail de réseautage le 12 mars offert par Intact pour célébrer 1 an du DataLab et événement spécial “Co-construction de la Déclaration de Montréal IA responsable” le 13 mars incluant un Facebook Live le matin en direct de la SAT et participation gratuite à la conférence de clôture à la SAT. \nUne belle occasion de venir rencontrer les membres du réseau de recherche en valorisation des données du Québec. \nMerci à notre partenaire Intact\, commanditaire du cocktail de réseautage! \n \nPROGRAMME\n  \n\n\n\nLUNDI\, 12 MARS\n\n\n8:00 – 9:00\nAccueil et inscription\n\n\n9:00 – 9:10\nMot de bienvenue\n\n\n9:10 – 9:50\nKeynote : Stéphane Guidoin\, Bureau de la ville intelligente et numérique\nLa bataille des données: les villes à l’intersection des mondes physique et numérique\n\n\nSESSION RECHERCHE – INDUSTRIE\n\n\n9:50 – 10:15\nThierry Badard\, ULaval – Le géospatial une dimension incontournable pour la valorisation des données et la prise de décision.\n\n\n10:15 – 10:35\nPause café\n\n\n10:35 – 11:00\nValérie Bécaert\, Element AI – Transfert technologique – Une histoire de relations humaines\n\n\n11:00– 11:15\nCaroline Pernelle\, IVADO – Les partenariats et la recherche\n\n\n11:15 – 12:00\nPanel “Académie – Industrie” avec Thierry Badard\, Valérie Bécaert\, Jean-François Larochelle\, Intact\, François Laviolette\, ULaval\, animé par Caroline Pernelle\, IVADO\n\n\n12:00 – 13:30\nLunch\n\n\nSESSION RESSOURCES NATURELLES\n\n\n13:30 – 13:55\nPhilippe Giguère\, ULaval – L’IA au service des opérations de récolte forestière.\n\n\n13:55 – 14:20\nMiguel F. Anjos\, Polytechnique Montréal – Vers un internet énergétique avec les réseaux électriques intelligents\n\n\n14:20 – 14:45\nSonja Behmel\, WaterShed Monitoring – Décloisonnement de la gestion des données sur la qualité de l’eau de la source au robinet\n\n\n14:45 – 15:15\nPause café\n\n\nPANEL IA RESPONSABLE\n\n\n15:15– 17:00\nPanel  IA responsable avec Esma Aïmeur\, Université de Montréal\, Martin Gibert\, IVADO\, Sébastien Gambs\, UQAM\, François Laviolette\, ULaval\, animé par Guillaume Chicoisne \, IVADO\, avec une introduction par Christophe Abrassart\, Université de Montréal\n\n\n17:00 – 19:00\nCocktail de réseautage offert par Intact soulignant le 1 an du Data Lab\n\n\n\n  \n  \n\n\n\nMARDI\, 13 MARS\n\n\n8:30 – 9:45\nWebdiffusion en direct de la SAT – Événement de co-construction de la Déclaration de Montréal pour le développement d’une intelligence artificielle responsable\n\n\nSESSION SANTÉ\n\n\n9:45 – 10:10\nPhilippe Després\, ULaval – L’accès aux données cliniques et administratives: état des lieux et perspectives futures\n\n\n10:10 – 10:35\nNadia Lahrichi\, Polytechnique Montréal – Gestion et optimisation en temps réel des rendez-vous de patients en radiothérapie\n\n\n10:35 – 11:00\nNadine Beauger\, IRICoR – IRICoR – transformation avant-gardiste de la recherche en thérapies innovantes\n\n\n11:00 – 11:30\nPause café\n\n\nSESSION INDUSTRIE 4.0\n\n\n11:30 – 11:55\nJonathan Gaudreault\, ULaval –  Industrie 4.0 et l’intelligence artificielle : sur mesure pour le Québec manufacturier\n\n\n11:55 – 12:20\nJean-Marc Frayret\, Polytechnique Montréal – Valorisation des données à Poly-industries 4.0\n\n\n12:20 – 12:45\nYves Proteau\, APN – L’expérience APN/La donnée carburant de l’IA.\n\n\n12:45 – 12:55\nSylvain Carle\, Real Ventures – Présentation de l’Accélérateur IA Montréal\n\n\n12:55 – 14:15\nLunch\n\n\nDÉPLACEMENT VERS LA SAT\n\n\n14:15 – 15:15\nDéplacement vers la SAT\n\n\n15:15 – 16:30\nPlénière de la Déclaration de Montréal pour une IA responsable\n\n\n16:30 – 19:00\nCocktail de réseautage à la SAT\n\n\n\n  \nSoyez parmi nous pour le cocktail de réseautage à la SAT. L’Université de Montréal vous offre gracieusement la première consommation! \n  \nInscription\nProfessionnels 100$ + taxes\nÉtudiants 50$ + taxes
URL:https://vieux.ivado.ca/evenement/journees-quebecoises-de-valorisation-donnees-ivado-crdm/
LOCATION:Amphithéâtre BN de HEC Montréal\, 3000 Chemin de la Côte-Sainte-Catherine\, Montréal
ATTACH;FMTTYPE=image/png:https://vieux.ivado.ca/wp-content/uploads/2018/02/IVADO_JournéeValorisation_banner_final-1.png
END:VEVENT
BEGIN:VEVENT
DTSTART;TZID=America/New_York:20180316T080000
DTEND;TZID=America/New_York:20180319T170000
DTSTAMP:20260422T044625
CREATED:20180125T012544Z
LAST-MODIFIED:20190626T172825Z
UID:8330-1521187200-1521478800@vieux.ivado.ca
SUMMARY:Uni 5
DESCRIPTION:Francophone or anglophone\, tech or business\, realizing the necessity to connect all students in the cosmopolitan city of Montreal\, we decided to collaborate to make an event dedicated to the youth passionated by entrepreneurship. \nThe first edition of UNI5 thus has an objective to give different students the opportunity to compete against each other while gathering and ultimately creating the first students-entrepreneurs network in Montreal. \n 
URL:https://vieux.ivado.ca/evenement/uni-5/
ATTACH;FMTTYPE=image/png:https://vieux.ivado.ca/wp-content/uploads/2018/01/Uni5.png
END:VEVENT
BEGIN:VEVENT
DTSTART;TZID=America/New_York:20180326T190000
DTEND;TZID=America/New_York:20180326T190000
DTSTAMP:20260422T044625
CREATED:20180227T044204Z
LAST-MODIFIED:20180227T045233Z
UID:8618-1522090800-1522090800@vieux.ivado.ca
SUMMARY:UPop Montréal - Les données : pierre angulaire de l'IA
DESCRIPTION:S’inspirant du mouvement alternatif des universités populaires européennes\, l’UPop Montréal veut créer un lieu de rencontre\, de réflexion et de partage des connaissances aussi dynamique que rassembleur. \nUPop Montréal est un organisme à but non lucratif créé en 2010 (comme l’indique l’affiche ci-contre de la session Automne 2014 qui soulignait notre 5e année). L’UPop a pour mission de favoriser le développement de l’esprit critique en offrant à la population de Montréal et des environs un accès libre et gratuit au savoir par le biais d’activités d’éducation populaire implantées dans plusieurs quartiers de la ville. \nInspirée du mouvement alternatif des universités populaires européennes\, la démarche du projet vise à créer un lieu dynamique de rencontre\, de réflexion et de partage des connaissances pour un public varié. Les activités sont ouvertes à toute personne curieuse et désireuse d’alimenter activement sa connaissance et sa réflexion. Pour cette raison\, l’UPop Montréal tient ses activités dans des lieux conviviaux et accessibles (cafés\, bibliothèques\, galerie d’art\, théâtres\, etc.) qui permettent de joindre un large public intéressé par la culture et le savoir. L’UPop Montréal entend par le fait même favoriser le sentiment d’appartenance à une communauté et l’envie de prendre part activement à la société québécoise. \nLa nouvelle vague de l’intelligence artificielle\nD’où vient-elle? Que change-t-elle? \nLundi 26 mars \nLes données : pierre angulaire de l’intelligence artificielle | Guillaume Chicoisne\, IVADO
URL:https://vieux.ivado.ca/evenement/upop-montreal-donnees-pierre-angulaire-de-lia/
ATTACH;FMTTYPE=image/png:https://vieux.ivado.ca/wp-content/uploads/2018/02/logo-upop-montreal-1.png
END:VEVENT
END:VCALENDAR