BEGIN:VCALENDAR
VERSION:2.0
PRODID:-//IVADO - ECPv6.5.0//NONSGML v1.0//EN
CALSCALE:GREGORIAN
METHOD:PUBLISH
X-ORIGINAL-URL:https://vieux.ivado.ca
X-WR-CALDESC:évènements pour IVADO
REFRESH-INTERVAL;VALUE=DURATION:PT1H
X-Robots-Tag:noindex
X-PUBLISHED-TTL:PT1H
BEGIN:VTIMEZONE
TZID:America/New_York
BEGIN:DAYLIGHT
TZOFFSETFROM:-0500
TZOFFSETTO:-0400
TZNAME:EDT
DTSTART:20170312T070000
END:DAYLIGHT
BEGIN:STANDARD
TZOFFSETFROM:-0400
TZOFFSETTO:-0500
TZNAME:EST
DTSTART:20171105T060000
END:STANDARD
END:VTIMEZONE
BEGIN:VEVENT
DTSTART;TZID=America/New_York:20171029T080000
DTEND;TZID=America/New_York:20171102T170000
DTSTAMP:20260422T103236
CREATED:20171101T005339Z
LAST-MODIFIED:20190819T145832Z
UID:8000-1509264000-1509642000@vieux.ivado.ca
SUMMARY:ITS World Congress 2017
DESCRIPTION:ITS World Congress 2017 brings together global leaders in intelligent and transformative transportation to address the challenges facing our mobile\, connected societies today and in the future.\n\nTransformational Transportation: Exploring Technology’s Next Revolution Intelligent transportation is driving us into the future. From autonomous vehicles to artificial intelligence and smart city infrastructure\, the potential and impact of this industry is massive—and backed up by a market projected to reach $143 billion by 2020. See technology’s next revolution on dramatic display at ITS World Congress 2017\, where leaders in technology\, business\, science\, government\, security and transportation will assemble to explore the transformational innovation that will deploy the next generation of integrated mobility.\n\n\nJoin us in Montréal October 29 – November 2\, 2017 for cutting-edge programming\, unparalleled B2B and B2G networking and an interactive Exhibit Hall that highlights the latest intelligent transportation advancements from around the world.\n\n\nBénéficiez du rabais de 40% en utilisant le code IVD17!
URL:https://vieux.ivado.ca/evenement/its-world-congress-2017/
LOCATION:Palais des congrès
END:VEVENT
BEGIN:VEVENT
DTSTART;TZID=America/New_York:20171102T080000
DTEND;TZID=America/New_York:20171103T170000
DTSTAMP:20260422T103236
CREATED:20171004T112420Z
LAST-MODIFIED:20200401T131322Z
UID:7830-1509609600-1509728400@vieux.ivado.ca
SUMMARY:Forum IA responsable | 2-3 novembre 2017
DESCRIPTION:L’Université de Montréal\, en partenariat avec les Fonds de recherche du Québec et le Palais des congrès de Montréal vous invitent au Forum sur le développement socialement responsable de l’intelligence artificielle. Montréal International est fier de participer à la diffusion de cet événement. \nL’ensemble de la collectivité est découvre à l’heure actuelle les possibilités innombrables des applications de l’intelligence artificielle. Appréhension et engouement s’entrechoquent au détour de chaque découverte. Qu’en est-il des impacts sociaux de cette nouvelle révolution technologique? \nEn rassemblant les plus grands experts des domaines scientifique\, juridique\, éthique\, social\, économique et académique\, le Forum pose les balises d’une réflexion essentielle sur le développement éthique et socialement responsable de l’intelligence artificielle. \nChercheurs\, experts\, partenaires industriels\, étudiants\, décideurs et citoyens\, tous les acteurs sociaux sont invités à participer à cette incontournable réflexion collective. \nConsultez la programmation complète de cet événement en cliquant ici. \nQUOI \nForum sur le développement socialement responsable de l’intelligence artificielle \nQUAND \n2 et 3 novembre 2017 \nOÙ \nPalais des Congrès de Montréal\n1001\, Place Jean-Paul Riopelle\nMontréal \, Québec\, H2Z 1H5 \nDÉTAILS & INSCRIPTION
URL:https://vieux.ivado.ca/evenement/forum-ia-responsable-2-3-novembre-2017/
ATTACH;FMTTYPE=image/png:https://vieux.ivado.ca/wp-content/uploads/2017/10/ForumIAMtl-1.png
END:VEVENT
BEGIN:VEVENT
DTSTART;TZID=America/New_York:20171117T070000
DTEND;TZID=America/New_York:20171117T120000
DTSTAMP:20260422T103236
CREATED:20171116T032404Z
LAST-MODIFIED:20200219T213350Z
UID:8051-1510902000-1510920000@vieux.ivado.ca
SUMMARY:3e anniversaire de Je Fais Mtl
DESCRIPTION:Le 17 novembre prochain aura lieu l’événement 3e anniversaire de Je fais Mtl.\n\nTrois ans d’engagement\, d’innovation et de réalisations qui auront vu Montréal se transformer.\n\nUn troisième anniversaire qui marque la fin d’un cycle et appelle au renouvellement.\n\nQue vous soyez un fidèle de la première heure\, un nouveau leader de projet ou un sympathisant de la cause : nous vous voulons avec nous!\n\n\nUne occasion unique de : \n\ncélébrer le chemin parcouru\ndécouvrir les nouvelles orientations du mouvement\nprofiter de rencontres exclusives et de dynamiques de travail structurées\nnourrir vos projets et contribuer à ceux des autres\nporter un regard prospectif sur Montréal et Je fais Mtl
URL:https://vieux.ivado.ca/evenement/3e-anniversaire-de-fais-mtl/
ATTACH;FMTTYPE=image/png:https://vieux.ivado.ca/wp-content/uploads/2017/11/jefaismtl_3e_anniversaire_plateforme_1_640x480.png
END:VEVENT
BEGIN:VEVENT
DTSTART;TZID=America/New_York:20171118T080000
DTEND;TZID=America/New_York:20171121T180000
DTSTAMP:20260422T103236
CREATED:20171116T033144Z
LAST-MODIFIED:20171116T040827Z
UID:8059-1510992000-1511287200@vieux.ivado.ca
SUMMARY:Intelligence artificielle et neuroscience (MAIN)
DESCRIPTION:On a pu voir au cours des dernières années\, une utilisation abondante d’outils d’intelligence artificielle (IA) pour aborder un large éventail de questions en neurosciences. En particulier\, les techniques d’apprentissage supervisé et non supervisé sont de plus en plus employées dans tous les domaines des neurosciences\, que ce soit en science de la santé\, en sciences cognitives et en recherche clinique. Néanmoins\, l’impact et la croissance de cette tendance en recherche dépendront de manière critique de l’amélioration de la synergie entre les communautés de recherche en Neuroscience et en IA. C’est précisément l’objectif de cet atelier international\, qui vise d’un côté la communauté des neuroscientifiques\, avec un vif intérêt pour l’apprentissage automatique et\, d’autre part\, des experts en science des données ayant un vif intérêt pour les neurosciences. La réunion de quatre jours sera une occasion unique d’assister à un cours d’initiation\, des séminaires présentés par les meilleurs experts dans leur domaine et à des séances de formation dans ce domaine interdisciplinaire qui réunit les sciences les sciences des données et celles du cerveau. \nVous trouverez toutes les informations concernant nos conférenciers invités\, le programme complet\, l’inscription et les informations pratiques via les rubriques en haut de cette page. Nous vous invitons aussi à consulter l’appel à affiches via le lien à droite de cette page. \nNous avons hâte de vous accueillir à la toute première édition de la conférence Montreal Artificial Intelligence and Neuroscience (MAIN 2017)! \nLes membres du comité organisateur et toute l’équipe du CRM tiennent à remercier chaleureusement tous nos partenaires sans lesquels cet événement ne pourrait pas avoir lieu.
URL:https://vieux.ivado.ca/evenement/intelligence-artificielle-neuroscience-main/
ATTACH;FMTTYPE=image/png:https://vieux.ivado.ca/wp-content/uploads/2017/11/main2017.png
END:VEVENT
BEGIN:VEVENT
DTSTART;TZID=America/New_York:20171120T170000
DTEND;TZID=America/New_York:20171120T210000
DTSTAMP:20260422T103236
CREATED:20171116T033538Z
LAST-MODIFIED:20171116T040108Z
UID:8061-1511197200-1511211600@vieux.ivado.ca
SUMMARY:Panel « Les défis de l'entrepreneuriat IA » et lancement de Datapreneur
DESCRIPTION:Soyez des nôtres le 20 novembre prochain pour le lancement du parcours Datapreneur qui vise à stimuler la création d’entreprises en intelligence artificielle (IA). \nCe lancement sera suivi d’un panel de discussion autour des défis de l’entrepreneuriat en intelligence artificielle. \nBonne nouvelle : Cet événement sera diffusé en direct sur la page Facebook du Centre d’entrepreneuriat Poly-UdeM!
URL:https://vieux.ivado.ca/evenement/panel-challenges-of-ai-entrepreneurship-and-launch-of-datapreneur/
ATTACH;FMTTYPE=image/png:https://vieux.ivado.ca/wp-content/uploads/2017/11/datapreneur.png
END:VEVENT
BEGIN:VEVENT
DTSTART;TZID=America/New_York:20171123T173000
DTEND;TZID=America/New_York:20171123T213000
DTSTAMP:20260422T103236
CREATED:20171116T034327Z
LAST-MODIFIED:20171116T041030Z
UID:8069-1511458200-1511472600@vieux.ivado.ca
SUMMARY:Women in Data Science & Machine Learning with Maluuba and IVADO
DESCRIPTION:Microsoft Research Maluuba & IVADO invite you to an evening cocktail event of presentations by women in data science and machine learning. Come learn about the opportunities for women in data science & machine learning at Microsoft Research Maluuba and IVADO.
URL:https://vieux.ivado.ca/evenement/women-in-data-science-machine-learning-with-maluuba-and-ivado/
ATTACH;FMTTYPE=image/jpeg:https://vieux.ivado.ca/wp-content/uploads/2017/11/WomeninMachineItel.jpg
END:VEVENT
END:VCALENDAR