BEGIN:VCALENDAR
VERSION:2.0
PRODID:-//IVADO - ECPv6.5.0//NONSGML v1.0//EN
CALSCALE:GREGORIAN
METHOD:PUBLISH
X-ORIGINAL-URL:https://vieux.ivado.ca
X-WR-CALDESC:évènements pour IVADO
REFRESH-INTERVAL;VALUE=DURATION:PT1H
X-Robots-Tag:noindex
X-PUBLISHED-TTL:PT1H
BEGIN:VTIMEZONE
TZID:America/New_York
BEGIN:DAYLIGHT
TZOFFSETFROM:-0500
TZOFFSETTO:-0400
TZNAME:EDT
DTSTART:20170312T070000
END:DAYLIGHT
BEGIN:STANDARD
TZOFFSETFROM:-0400
TZOFFSETTO:-0500
TZNAME:EST
DTSTART:20171105T060000
END:STANDARD
END:VTIMEZONE
BEGIN:VEVENT
DTSTART;VALUE=DATE:20170918
DTEND;VALUE=DATE:20170920
DTSTAMP:20260422T131959
CREATED:20170420T135440Z
LAST-MODIFIED:20190627T125602Z
UID:7269-1505692800-1505865599@vieux.ivado.ca
SUMMARY:Artificial Intelligence Innovation Summit
DESCRIPTION:Artificial intelligence (AI) not only revolutionizes the future of life science and healthcare activity\, it also translates previously unused clinical data. Through the evolution of technology\, life science and healthcare organizations have acquired an unfathomable amount of data about patient populations\, genomic profiles\, molecular pathology and more in the digital space. Now\, AI is able to take the data that has been acquired through applications\, tests and platforms; sift through it; and provide actionable insights\, if not intelligent decisions. \nAt the Artificial Intelligence Innovation Summit\, our expert speaking faculty will provide insights into the implementation and execution of artificial intelligence platforms in life science and healthcare organizations\, define regulatory boundaries and limitations\, review the necessary metrics to measure the success and effectiveness of the AI system\, and examine case studies of industry vertical use. ExL Events will provide not only forward-thinking conversations but also proven strategies to implement\, execute and manage artificial intelligence in your life science organization.
URL:https://vieux.ivado.ca/evenement/artificial-intelligence-innovation-summit/
ATTACH;FMTTYPE=image/jpeg:https://vieux.ivado.ca/wp-content/uploads/2017/04/AISummit.jpg
END:VEVENT
BEGIN:VEVENT
DTSTART;TZID=America/New_York:20170918T080000
DTEND;TZID=America/New_York:20170918T120000
DTSTAMP:20260422T131959
CREATED:20170911T144125Z
LAST-MODIFIED:20170917T233451Z
UID:7770-1505721600-1505736000@vieux.ivado.ca
SUMMARY:Données de recherche pour de meilleures décisions publiques - Événement satellite dans le cadre de RDA 10
DESCRIPTION:Données de recherche pour de meilleures décisions publiques – Événement satellite organisé par IVADO dans le cadre de RDA 10 \nÉvénement satellite gratuit\, mais inscription nécessaire! >> \nÉvénement bilingue\, mais non traduit en simultané \nNotre table ronde d’experts “Research data for better public decisions” organisée en marge de la Research Data Alliance (RDA) 10th meeting le 18 septembre de 8h à 12h00 vise à mettre en évidence les défis rencontrés par les différents organismes gouvernementaux qui s’appuient de plus en plus sur les données dans leur fonctionnement. En tant qu’agent fédérateur de la recherche et développement en sciences des données (particulièrement en ce qui concerne l’analyse et la prise de décision)\, IVADO souhaite structurer cette journée comme un espace de rencontre qui permettra aux différents intervenants et au public de partager les problèmes et solutions auxquels ils sont confrontés dans leur stratégie de gestion de données. \nProgramme : \n\n\n\n\n\n\n\n\n\n\n\n8:00 – 9:00 : Networking breakfast / Petit-déjeuner de réseautage\n9:00 – 9:30 : Rita Lc de Santis\, Minister responsible for Access to Information\nand the Reform of Democratic Institutions / Ministre responsable de l’Accès à l’information et de la Réforme des institutions démocratiques\n9:30 – 10:00 : Yves Gingras\, UQAM Professor / Professeur à l’UQAM\, Canada Research Chair in History and Sociology of Science / Chaire de recherche du Canada en histoire et sociologie des sciences\n10:00: Break / Pause\n10:15: Panel / Table ronde\n\nHost / Animateur : Ryad Titah\, HEC Montreal Professor / Professeur à HEC Montréal\nHolder of the Professorship in Electronic Government and Digital Cities / Titulaire de Professorship en Gouvernement Électronique et Villes Numériques\nPanelist / Panéliste : Jean-François Gauthier\, CEO / directeur général\, Institut de gouvernance numérique du Québec\nPanelist / Panéliste : Gilles Savard\, CEO / directeur généréal\, IVADO\nPanelist / Panéliste : Stéphane Guidoin\, Acting Director / Directeur par intérim Smart and Digital City\, Office of Montréal\nPanelist / Panéliste : Yves Gingras\, UQAM Professor / Professeur à l’UQAM\, Canada Research Chair in History and Sociology of Science / Chaire de recherche du Canada en histoire et sociologie des sciences\n\n\n11h30: Closing / Clôture
URL:https://vieux.ivado.ca/evenement/donnees-de-recherche-de-meilleures-decisions-publiques-evenement-satellite-cadre-de-rda-10/
ATTACH;FMTTYPE=image/png:https://vieux.ivado.ca/wp-content/uploads/2017/09/RDA10_promo_entete.png
END:VEVENT
BEGIN:VEVENT
DTSTART;VALUE=DATE:20170919
DTEND;VALUE=DATE:20170922
DTSTAMP:20260422T131959
CREATED:20170419T170719Z
LAST-MODIFIED:20170419T170719Z
UID:7249-1505779200-1506038399@vieux.ivado.ca
SUMMARY:RDA Tenth Plenary Meeting\, Montreal Canada
DESCRIPTION:The 10th RDA Plenary Meeting will take place from 19 to 21 September 2017 in  Montreal\, Canada. The meeting is co-organised by RDA\, the University of Montreal and Research Data Canada\, Canada. \nMore info >>
URL:https://vieux.ivado.ca/evenement/rda-tenth-plenary-meeting-montreal-canada/
ATTACH;FMTTYPE=image/jpeg:https://vieux.ivado.ca/wp-content/uploads/2017/04/RDA_P10_banner_updateMarch2017.jpg
END:VEVENT
BEGIN:VEVENT
DTSTART;TZID=America/New_York:20170920T080000
DTEND;TZID=America/New_York:20170920T170000
DTSTAMP:20260422T131959
CREATED:20170920T131416Z
LAST-MODIFIED:20170920T131416Z
UID:7801-1505894400-1505926800@vieux.ivado.ca
SUMMARY:Panel de discussion perspectives en innovation - Conférence Les affaires
DESCRIPTION:Caroline Pernelle\, conseillère aux partenariats industriels d’IVADO\, nous parle des perspectives en innovation – Panel de discussion Les Affaires | Conférence Gestion de l’innovation. \n\nhttp://www.lesaffaires.com/evenements/conferences/gestion-de-l-innovation-/594030
URL:https://vieux.ivado.ca/evenement/panel-de-discussion-perspectives-innovation-conference-affaires/
ATTACH;FMTTYPE=image/png:https://vieux.ivado.ca/wp-content/uploads/2017/09/LesAffiares-e1505916663887.png
END:VEVENT
BEGIN:VEVENT
DTSTART;VALUE=DATE:20170926
DTEND;VALUE=DATE:20170927
DTSTAMP:20260422T131959
CREATED:20170829T134624Z
LAST-MODIFIED:20190627T163106Z
UID:7730-1506384000-1506470399@vieux.ivado.ca
SUMMARY:Symposium IA Montréal
DESCRIPTION:Le Symposium IA Montréal vise à rassembler les experts et professionnels intéressés par les percées fondamentales et les applications de l’intelligence artificielle\, avec un focus sur les méthodes basées sur l’apprentissage automatique\, l’apprentissage profond\, ainsi que les approches apparentées. Le symposium se veut un forum rassemblant autant des participants académiques qu’industriels. Il cherche à bâtir des liens plus étroits entre les chercheurs de la région du grand Montréal. \nL’événement durera une journée\, avec des conférences plénières\, allocutions et présentation d’affiches\, ainsi qu’une période de réseautage. \nLe Symposium se tiendra le 26 septembre 2017 à l’École Polytechnique de Montréal. L’événement est gratuit pour les participants\, avec une inscription préalable obligatoire (disponible à partir du début-septembre). \nDate limite de soumission d’un résumé: 18 août 2017\nAvis d’acceptation: 5 septembre 2017\nDébut de la période d’inscription: 5 septembre\, 2017\nDate de l’événement: 26 septembre 2017 \nAppel aux contributions\nNous vous invitons à soumettre une contribution au premier Symposium IA Montréal. Nous encourageons la soumission d’un résumé de chercheurs œuvrant tant au niveau académique qu’industriel\, décrivant une contribution technique ou pratique\, un problème ouvert\, une application\, ou un énoncé de position. Il est acceptable de soumettre des travaux déjà présentés. Prière de n’inclure aucun élément confidentiel. \nLes sujets d’intérêt comprennent: \n\nRecherche fondamentale en apprentissage profond\, apprentissage par renforcement\, machines à noyaux\, modélisation Bayesienne\, méthodes ensemblistes\, optimisation pour apprentissage automatique;\nProblèmes d’implantation\, parallélisme\, plateformes logicielles et matérielles;\nApplications\, incluant en vision\, audio\, parole\, traitement de la langue\, robotique\, santé\, bioinformatique.\n\nLors du dépôt de votre soumission\, veuillez indiquer votre préférence de format (allocution courte ou affiche). Les résumés ne doivent pas dépasser 5000 caractères. \nDate limite de soumission: 18 août 2017. \nSoumettez votre résumé ici. \nAppel aux commanditaires\nAfin de permettre une inscription gratuite pour les participants\, l’organisation de cet événement est entièrement soutenue par des commanditaires. Les commanditaires au niveau “argent” ou supérieur bénéficient d’un espace dans l’aire commune afin d’afficher leurs activités et à des fins de recrutement. Nous accueillons des commanditaires additionnels au niveau “bronze”: \n5K$ – Platine (mention spéciale à l’ouverture\, mention sur le site web\, 1 table et 1 affiche) \n2.5K$ – Or (mention sur le site web\, 1 table et 1 affiche) \n1K$ – Argent (mention sur le site webs\, 1 table) \n250$ – Bronze (mention sur le site web) \nSi vous souhaitez commanditer le Symposium IA Montréal\, veuillez contacter les organisateurs.
URL:https://vieux.ivado.ca/evenement/symposium-ia-montreal/
ATTACH;FMTTYPE=image/png:https://vieux.ivado.ca/wp-content/uploads/2017/08/SymposiumIAMtl.png
END:VEVENT
END:VCALENDAR