BEGIN:VCALENDAR
VERSION:2.0
PRODID:-//IVADO - ECPv6.5.0//NONSGML v1.0//EN
CALSCALE:GREGORIAN
METHOD:PUBLISH
X-ORIGINAL-URL:https://vieux.ivado.ca
X-WR-CALDESC:évènements pour IVADO
REFRESH-INTERVAL;VALUE=DURATION:PT1H
X-Robots-Tag:noindex
X-PUBLISHED-TTL:PT1H
BEGIN:VTIMEZONE
TZID:America/New_York
BEGIN:DAYLIGHT
TZOFFSETFROM:-0500
TZOFFSETTO:-0400
TZNAME:EDT
DTSTART:20170312T070000
END:DAYLIGHT
BEGIN:STANDARD
TZOFFSETFROM:-0400
TZOFFSETTO:-0500
TZNAME:EST
DTSTART:20171105T060000
END:STANDARD
END:VTIMEZONE
BEGIN:VEVENT
DTSTART;VALUE=DATE:20170626
DTEND;VALUE=DATE:20170702
DTSTAMP:20260422T165458
CREATED:20170419T150115Z
LAST-MODIFIED:20200205T154334Z
UID:7239-1498435200-1498953599@vieux.ivado.ca
SUMMARY:Deep Learning Summer School and Reinforcement Learning Summer School
DESCRIPTION:Deep neural networks that learn to represent data in multiple layers of increasing abstraction have dramatically improved the state-of-the-art for speech recognition\, object recognition\, object detection\, predicting the activity of drug molecules\, and many other tasks. Deep learning discovers intricate structure in large datasets by building distributed representations\, either via supervised\, unsupervised or reinforcement learning. \nThe Deep Learning Summer School (DLSS) is aimed at graduate students and industrial engineers and researchers who already have some basic knowledge of machine learning (and possibly but not necessarily of deep learning) and wish to learn more about this rapidly growing field of research. \nThis year’s edition of the DLSS is organized by Graham Taylor\, Aaron Courville and Yoshua Bengio.
URL:https://vieux.ivado.ca/evenement/deep-learning-summer-school-and-reinforcement-learning-summer-school/
END:VEVENT
BEGIN:VEVENT
DTSTART;TZID=America/New_York:20170703T080000
DTEND;TZID=America/New_York:20170707T170000
DTSTAMP:20260422T165458
CREATED:20161118T011904Z
LAST-MODIFIED:20161118T150901Z
UID:6426-1499068800-1499446800@vieux.ivado.ca
SUMMARY:11th International Conference on Monte-Carlo Methods and Applications
DESCRIPTION:The biennial International Conference on Monte Carlo Methods and Applications (MCM) is a mathematically-oriented meeting devoted to the study of stochastic simulation and Monte Carlo methods in general\, from the theoretical viewpoint and in terms of their effective applications in different areas such as nance\, statistics\, machine learning\, computer graphics\, computational physics\, biology\, chemistry\, and scientific computing in general. It is one of the most prominent conference series devoted to research on the mathematical aspects of stochastic simulation and Monte Carlo methods. \nConference topics include:\nMonte Carlo methods and principles; pseudorandom number generators; low-discrepancy point sets and sequences in various spaces; quasi-Monte Carlo and randomized quasi-Monte Carlo methods; simulation of random variates and random processes; variance reduction and efficiency improvement methods for simulation; rare-event simulation methods; multilevel Monte Carlo methods; stochastic optimization methods based on simulation and random search; simulation algorithms for highly-parallel computing environments; tractability and complexity analysis of multivariate problems (integration\, approximation\, etc.); Monte Carlo and quasi-Monte Carlo methods for stochastic differential equations and partial differential equations; Markov chain Monte Carlo particle filters\, splitting\, and other adaptive learning methods; Monte Carlo methods in machine learning; applications in physics\, chemistry\, biology\, economy\, finance\, statistics\, management\, medical science\, computer graphics\, etc.
URL:https://vieux.ivado.ca/evenement/11th-international-conference-on-monte-carlo-methods-and-applications/
LOCATION:HEC Montréal\, 3000 chemin de la Côte-Sainte-Catherine\, Montréal\, Québec\, H3T 2A7 \, Canada
END:VEVENT
BEGIN:VEVENT
DTSTART;VALUE=DATE:20170717
DTEND;VALUE=DATE:20170722
DTSTAMP:20260422T165458
CREATED:20170419T150911Z
LAST-MODIFIED:20190819T145729Z
UID:7241-1500249600-1500681599@vieux.ivado.ca
SUMMARY:IFORS 2017
DESCRIPTION:IVADO is pleased to participate in the 21st Conference of the International Federation of Operational Research Societies. Under the theme of “OR/Analytics for a better world”\, the conference will be held between July 17-21\, 2017 in Quebec City\, the capital of the province of Quebec\, Canada. \nThe venue is the Quebec International Convention Center\, conveniently located in the heart of Quebec City and one of Canada’s top convention destinations with renowned hospitality and exceptional service\, cutting-edge technology and creative cuisine inspired by the rich culinary traditions of North America’s fine dining capital. \nIFORS 2017 will bring together operational researchers from around the globe. \nMore info >>
URL:https://vieux.ivado.ca/evenement/ifors-2017/
ATTACH;FMTTYPE=image/jpeg:https://vieux.ivado.ca/wp-content/uploads/2017/04/ifors_logo.jpg
END:VEVENT
BEGIN:VEVENT
DTSTART;TZID=America/New_York:20170724T080000
DTEND;TZID=America/New_York:20170730T170000
DTSTAMP:20260422T165458
CREATED:20170724T150517Z
LAST-MODIFIED:20170724T150636Z
UID:7492-1500883200-1501434000@vieux.ivado.ca
SUMMARY:Le défi d'intelligence conversationnelle NIPS cherche des évaluateurs humains
DESCRIPTION:Joignez-vous à la compétition ConvAI comme évaluateur humain pour créer une nouvelle génération de robot-clavardeurs vraiment intelligents\nLes systèmes de dialogue et les agents conversationnels – incluant les robot-clavardeurs\, les assistants personnels et les interfaces de contrôle vocal – sont de plus en plus répandus dans nos vie quotidiennes. Tout de même\, l’intelligence conversationnelle demeure un défi majeur non-résolu en intelligence artificielle. Le Défi d’intelligence conversationnelle ConvAI (http://convai.io) est parrainé par la conférence NIPS et co-organisé par l’Université de Montréal et le MILA. Le défi vise à créer un robot-clavardeur capable de tenir une conversation intelligente avec un partenaire humain. Les buts de la compétition sont l’évaluation de systèmes de dialogues à la fine pointe\, et la collecte d’un ensemble de données ouvertes pour l’entraînement de futurs systèmes. \nConvAI est à la recherche d’évaluateurs humains pour la première ronde qui sera tenue à distance les 24-30 Juillet 2017. Pour les détails\, voir le communiqué de presse en anglais qui suit. \nIVADO est très heureux de participer à la ConvAI à titre de partenaire argent!
URL:https://vieux.ivado.ca/evenement/defi-dintelligence-conversationnelle-nips-cherche-evaluateurs-humains/
END:VEVENT
END:VCALENDAR