BEGIN:VCALENDAR
VERSION:2.0
PRODID:-//IVADO - ECPv6.5.0//NONSGML v1.0//EN
CALSCALE:GREGORIAN
METHOD:PUBLISH
X-ORIGINAL-URL:https://vieux.ivado.ca
X-WR-CALDESC:évènements pour IVADO
REFRESH-INTERVAL;VALUE=DURATION:PT1H
X-Robots-Tag:noindex
X-PUBLISHED-TTL:PT1H
BEGIN:VTIMEZONE
TZID:America/New_York
BEGIN:DAYLIGHT
TZOFFSETFROM:-0500
TZOFFSETTO:-0400
TZNAME:EDT
DTSTART:20170312T070000
END:DAYLIGHT
BEGIN:STANDARD
TZOFFSETFROM:-0400
TZOFFSETTO:-0500
TZNAME:EST
DTSTART:20171105T060000
END:STANDARD
END:VTIMEZONE
BEGIN:VEVENT
DTSTART;TZID=America/New_York:20170504T153000
DTEND;TZID=America/New_York:20170504T163000
DTSTAMP:20260422T175948
CREATED:20170418T163220Z
LAST-MODIFIED:20170418T163221Z
UID:7196-1493911800-1493915400@vieux.ivado.ca
SUMMARY:Séminaire GERAD : Le B.A. BA des RNA
DESCRIPTION:L’engouement récent pour l’apprentissage profond (deep learning) associé aux mégadonnées (big data) attire l’attention de nombreux chercheurs. Ce séminaire se veut un exposé introductif sur la motivation\, les mathématiques et les applications des réseaux de neurones artificiels (RNA) en lien avec ces deux domaines d’actualité. \nPlus d’info : https://www.gerad.ca/en/events/1456/
URL:https://vieux.ivado.ca/evenement/seminaire-gerad-b-a-ba-rna/
END:VEVENT
BEGIN:VEVENT
DTSTART;VALUE=DATE:20170508
DTEND;VALUE=DATE:20170511
DTSTAMP:20260422T175948
CREATED:20170418T164400Z
LAST-MODIFIED:20170418T164400Z
UID:7200-1494201600-1494460799@vieux.ivado.ca
SUMMARY:Journées de l'optimisation 2017
DESCRIPTION:Les Journées de l’Optimisation sont un événement annuel organisé en alternance par le Centre  interuniversitaire de recherche sur les réseaux d’entreprise\, la logistique et le transport (CIRRELT) et le Groupe d’Études et de Recherche en Analyse des Décisions (GERAD). Les thèmes de ces Journées portent principalement sur les théories\, les méthodes numériques et les applications de l’optimisation. Un des objectifs de ces réunions est de permettre aux chercheurs intéressés par ces domaines de se rencontrer et ainsi de favoriser les échanges et la collaboration entre individus ou institutions de divers pays. Nous sollicitons des communications sur les sujets suivants ou des sujets connexes : \nla programmation mathématique; les heuristiques; la programmation par contraintes; la théorie de la commande optimale; les méthodes numériques d’optimisation; les méthodes statistiques; les applications aux problèmes du génie\, de l’administration\, de la gestion des systèmes de services de santé\, du transport\, de l’économie\, de l’urbanisme\, de l’environnement\, de la gestion des ressources\, de l’aménagement\, de la biologie\, des réseaux de télécommunications\, de la robotique\, des systèmes experts\, de la modélisation énergétique\, etc. \nLes personnes intéressées aux méthodes d’optimisation ou à leurs applications sont cordialement invitées à ces Journées. Nous désirons toutefois solliciter tout spécialement les exposés portant sur les nouvelles méthodes d’optimisation et leurs applications. Les langues des Journées seront le français et l’anglais. \nEn 2017\, les Journées de l’Optimisation se dérouleront à HEC Montréal\, 3000 Côte-Sainte-Catherine\, Montréal\, près du campus de l’Université de Montréal. Plus d’infos : https://symposia.cirrelt.ca/JOPT2017/fr/home
URL:https://vieux.ivado.ca/evenement/journees-de-loptimisation-2017/
END:VEVENT
BEGIN:VEVENT
DTSTART;TZID=America/New_York:20170511T090000
DTEND;TZID=America/New_York:20170511T170000
DTSTAMP:20260422T175948
CREATED:20170418T195634Z
LAST-MODIFIED:20170418T195634Z
UID:7218-1494493200-1494522000@vieux.ivado.ca
SUMMARY:Formation HEC | Le Big Data et l'IA : des actifs stratégiques pour votre entreprise
DESCRIPTION:Cette formation vous permettra de tirer avantage de ces innovations sans avoir à investir démesurément en technologies. \nObjectifs\n\nDémystifier le Big Data et en comprendre les impacts stratégiques.\nFaire les liens entre les données et les impacts sur vos modèles d’affaires.\nDéceler comment l’intelligence artificielle (IA) changera les rôles et fonctions des entreprises.\nSavoir contourner le manque d’information pour l’exécution d’une stratégie.\nDiscuter avec une dirigeante de IVADO lors du lunch pour comprendre comment vous inscrire dans le leadership mondial de Montréal en IA.\nRencontrer des leaders du Québec qui innovent ou créent des entreprises fondées sur le Big Data et l’IA.\n\nPlus d’info >>
URL:https://vieux.ivado.ca/evenement/formation-hec-big-data-lia-actifs-strategiques-entreprise/
ATTACH;FMTTYPE=image/jpeg:https://vieux.ivado.ca/wp-content/uploads/2017/04/formationHEC.jpg
END:VEVENT
BEGIN:VEVENT
DTSTART;TZID=America/New_York:20170515T080000
DTEND;TZID=America/New_York:20170519T170000
DTSTAMP:20260422T175948
CREATED:20170411T183453Z
LAST-MODIFIED:20200207T173221Z
UID:7165-1494835200-1495213200@vieux.ivado.ca
SUMMARY:École de printemps 2017 de Calcul Québec
DESCRIPTION:Calcul Québec lance la nouvelle édition de son école de printemps. Au programme cette année\, une séquence sur l’analyse de données et l’autre sur le calcul parallèle\, avec des séances théoriques le matin et des exercices pratiques l’après-midi. L’École se tiendra du 15 au 19 mai sur le campus de l’Université du Québec à Trois-Rivières. Que vous soyez étudiant(e) aux cycles supérieurs\, chercheur(e) universitaire ou utilisateur de CIP en entreprise\, notre école intensive est pour vous! Vous trouverez tous les détails sur le site web de l’École de printemps de CIP 2017. \n 
URL:https://vieux.ivado.ca/evenement/ecole-de-printemps-2017-de-calcul-quebec/
END:VEVENT
BEGIN:VEVENT
DTSTART;VALUE=DATE:20170517
DTEND;VALUE=DATE:20170519
DTSTAMP:20260422T175948
CREATED:20170418T193151Z
LAST-MODIFIED:20170418T193151Z
UID:7212-1494979200-1495151999@vieux.ivado.ca
SUMMARY:42e congrès de l'Association des économistes québécois | Technologies perturbatrices : des opportunités à saisir\, des défis à relever
DESCRIPTION:Le prochain Congrès annuel de l’Association des économistes québécois se tiendra à Gatineau les 17 et 18 mai 2017 et portera sur le thème «Technologies perturbatrices : des opportunités à saisir\, des défis à relever». Un événement à ne pas manquer! \nGilles Savard\, DG d’IVADO\, animera un dîner conférence le 18 mai dans le cadre de ce congrès. Plus d’infos : http://www.economistesquebecois.com/documents/congres/2017/Congres_2017_Programme.pdf
URL:https://vieux.ivado.ca/evenement/42e-congres-de-lassociation-economistes-quebecois-technologies-perturbatrices-opportunites-a-saisir-defis-a-relever/
ATTACH;FMTTYPE=image/jpeg:https://vieux.ivado.ca/wp-content/uploads/2017/04/42congres.jpg
END:VEVENT
BEGIN:VEVENT
DTSTART;VALUE=DATE:20170524
DTEND;VALUE=DATE:20170527
DTSTAMP:20260422T175948
CREATED:20170418T165646Z
LAST-MODIFIED:20190905T142842Z
UID:7204-1495584000-1495843199@vieux.ivado.ca
SUMMARY:Forum Intelligence artificielle | C2Mtl
DESCRIPTION:De l’automatisation aux plus récentes découvertes biomédicales\, l’intelligence artificielle (IA) a une forte incidence sur l’économie mondiale. L’adoption exponentielle de cette nouvelle technologie soulève déjà de nombreuses questions auxquelles nous devrons faire face dans un monde AI-first. Le nouveau Forum Intelligence artificielle sera l’occasion d’explorer des solutions novatrices aux problématiques mondiales les plus préoccupantes dans un contexte AI-first\, et de réfléchir aux types de contexte dans lesquels évolueront les organisations et la main-d’œuvre de demain. \n\nCette première édition du Forum Intelligence artificielle\, issue d’un nouveau partenariat entre Element AI et C2\, vient renforcer la position de Montréal comme plaque tournante de l’innovation en IA. Organisé dans le cadre de la conférence C2 Montréal\, du 24 au 26 mai 2017\, le Forum IA offrira un lieu stimulant pour explorer les innovations qui auront la plus grande incidence sur l’avenir de toutes les industries. 
URL:https://vieux.ivado.ca/evenement/forum-intelligence-artificielle-c2mtl/
ATTACH;FMTTYPE=image/jpeg:https://vieux.ivado.ca/wp-content/uploads/2017/04/forumIA.jpg
END:VEVENT
END:VCALENDAR