BEGIN:VCALENDAR
VERSION:2.0
PRODID:-//IVADO - ECPv6.5.0//NONSGML v1.0//EN
CALSCALE:GREGORIAN
METHOD:PUBLISH
X-WR-CALNAME:IVADO
X-ORIGINAL-URL:https://vieux.ivado.ca
X-WR-CALDESC:évènements pour IVADO
REFRESH-INTERVAL;VALUE=DURATION:PT1H
X-Robots-Tag:noindex
X-PUBLISHED-TTL:PT1H
BEGIN:VTIMEZONE
TZID:America/New_York
BEGIN:DAYLIGHT
TZOFFSETFROM:-0500
TZOFFSETTO:-0400
TZNAME:EDT
DTSTART:20180311T070000
END:DAYLIGHT
BEGIN:STANDARD
TZOFFSETFROM:-0400
TZOFFSETTO:-0500
TZNAME:EST
DTSTART:20181104T060000
END:STANDARD
END:VTIMEZONE
BEGIN:VEVENT
DTSTART;TZID=America/New_York:20180126T090000
DTEND;TZID=America/New_York:20180126T170000
DTSTAMP:20260422T090704
CREATED:20180124T172831Z
LAST-MODIFIED:20180124T172831Z
UID:8280-1516957200-1516986000@vieux.ivado.ca
SUMMARY:Première Foire aux stages IVADO
DESCRIPTION:C’est avec grande joie que nous vous invitons à participer à la première édition de la Foire aux stages d’IVADO! Celle-ci se tiendra vendredi\, le 26 janvier 2018 de 9h à 17h à l’Atrium Hydro-Québec de HEC Montréal situé au 3000 Chemin de la Côte-Sainte-Catherine à Montréal. \nVenez rencontrer nos membres industriels et académiques et nos partenaires et discuter avec eux de possibilités de stages! \nSeront présents : Aimia\, Air Canada\, AMF\, Applications Mobiles Overview inc.\, B-CITI\, Banque nationale du Canada\, Chaired’excellence en recherche du Canada sur la science des données pour la prise de décision en temps réel\, CIRRELT\, CN\, Desjardins\, ExPretio\, Element AI\, Énergir\, GERAD\, GIRO\, Horoma AI\, Huawei\, Hydro-Québec\, Intact\, Irosoft\, IVADO\, Keatext\, Lexum\, MILA\, Myelin\, Radio-Canada\, SquarePoint Capital\, Solutions Innov2learn\, Stradigi\, Thales. \nHoraire de la journée : \n9h00 : Début de la foire aux stages\n10h00 : Présentations “pitchs” (3 min./ membre IVADO)\n14h00 : Présentations “pitchs” (3 min./ membre IVADO)\n17h00 : Clôture de la foire aux stages \nInscrivez-vous ici >> \nAu plaisir de vous y voir tous!
URL:https://vieux.ivado.ca/evenement/premiere-foire-aux-stages-ivado/
ATTACH;FMTTYPE=image/png:https://vieux.ivado.ca/wp-content/uploads/2018/01/FoireAuxStagesJanvier2018_CRM.png
END:VEVENT
END:VCALENDAR