BEGIN:VCALENDAR
VERSION:2.0
PRODID:-//IVADO - ECPv6.5.0//NONSGML v1.0//EN
CALSCALE:GREGORIAN
METHOD:PUBLISH
X-ORIGINAL-URL:https://vieux.ivado.ca
X-WR-CALDESC:évènements pour IVADO
REFRESH-INTERVAL;VALUE=DURATION:PT1H
X-Robots-Tag:noindex
X-PUBLISHED-TTL:PT1H
BEGIN:VTIMEZONE
TZID:America/New_York
BEGIN:DAYLIGHT
TZOFFSETFROM:-0500
TZOFFSETTO:-0400
TZNAME:EDT
DTSTART:20180311T070000
END:DAYLIGHT
BEGIN:STANDARD
TZOFFSETFROM:-0400
TZOFFSETTO:-0500
TZNAME:EST
DTSTART:20181104T060000
END:STANDARD
END:VTIMEZONE
BEGIN:VEVENT
DTSTART;TZID=America/New_York:20180124T080000
DTEND;TZID=America/New_York:20180125T170000
DTSTAMP:20260422T091110
CREATED:20180124T184459Z
LAST-MODIFIED:20180124T184459Z
UID:8293-1516780800-1516899600@vieux.ivado.ca
SUMMARY:Expo Entrepreneurs
DESCRIPTION:Le rassemblement de l’écosystème entrepreneurial du Québec 24- 25 janvier 2018 à la Place Bonaventure\nAtelier IVADO – Sensibilisation à l’intelligence artificielle – avec Jean-François Connolly le 24 janvier à 14h. \nL’objectif de l’atelier est de sensibiliser les participants à l’intelligence artificielle (IA) et ses enjeux. Après une courte introduction à l’IA et à ses applications potentielles\, les enjeux concrets de ce domaine\, tels que la propriété des données\, le niveau d’automatisation d’une tâche\, l’élimination de biais d’une IA\, etc. seront abordés lors de discussions en groupe. \nLien >>
URL:https://vieux.ivado.ca/evenement/expo-entrepreneurs/
ATTACH;FMTTYPE=image/png:https://vieux.ivado.ca/wp-content/uploads/2018/01/Expo_Logo_1.png
END:VEVENT
BEGIN:VEVENT
DTSTART;TZID=America/New_York:20180125T080000
DTEND;TZID=America/New_York:20180125T170000
DTSTAMP:20260422T091110
CREATED:20180124T224124Z
LAST-MODIFIED:20180124T224124Z
UID:8300-1516867200-1516899600@vieux.ivado.ca
SUMMARY:Intelligence Artificielle en Mission Sociale
DESCRIPTION:Intelligence Artificielle en Mission Sociale – AI on a Social Mission (See English version below) est un événement majeur dédié aux impacts sociaux de l’intelligence artificielle et l’occasion de s’inspirer de projets qui mettent l’intelligence artificielle au service de missions sociales. \nQu’est-ce que peut faire ou ne pas faire l’intelligence artificielle? Où en est la science du machine et deep learning et comment\, concrètement\, peut-on soutenir des projets qui utilisent l’IA pour des missions sociales? Nos données sont elles protégées et sont-elles mis au profit de nos besoins? \nDes panels de discussions stimulerons nos réflexions entre autre sur la gestion des données dans un contexte sans but lucratif\, des données ouvertes et de la gouvernance\, des impacts sur les droits de la personne\, être entrepreneur à mission sociale\, défis et satisfaction et comment rendre l’IA plus accessible. \nUn événement qui réunit l’écosystème de l’intelligence artificielle et celui de l’entraide pour s’inspirer\, réseauter et s’outiller. \nPanels et groupes de discussions multidisciplinaires: seront rassemblés des experts en intelligence artificielle\, en science des données\, en innovation sociale\, des intervenants sociaux\, chercheurs en éthiques\, juristes\, des planificateurs en financement et en gouvernance. Les détails du programme sont sous l’onglet Programme de notre site web. \nSur le formulaire d’inscription\, vous verrez qu’il y a des questions liées à votre rôle ou votre secteur d’activité. En répondant à ces questions\, vous nous permettez de créer des groupes de discussions vraiment multidisciplinaires. \nwww.iaenmissionsociale.com
URL:https://vieux.ivado.ca/evenement/intelligence-artificielle-mission-sociale/
ATTACH;FMTTYPE=image/png:https://vieux.ivado.ca/wp-content/uploads/2018/01/IAMissionSociale.png
END:VEVENT
END:VCALENDAR