BEGIN:VCALENDAR
VERSION:2.0
PRODID:-//IVADO - ECPv6.5.0//NONSGML v1.0//EN
CALSCALE:GREGORIAN
METHOD:PUBLISH
X-ORIGINAL-URL:https://vieux.ivado.ca
X-WR-CALDESC:évènements pour IVADO
REFRESH-INTERVAL;VALUE=DURATION:PT1H
X-Robots-Tag:noindex
X-PUBLISHED-TTL:PT1H
BEGIN:VTIMEZONE
TZID:America/New_York
BEGIN:DAYLIGHT
TZOFFSETFROM:-0500
TZOFFSETTO:-0400
TZNAME:EDT
DTSTART:20170312T070000
END:DAYLIGHT
BEGIN:STANDARD
TZOFFSETFROM:-0400
TZOFFSETTO:-0500
TZNAME:EST
DTSTART:20171105T060000
END:STANDARD
END:VTIMEZONE
BEGIN:VEVENT
DTSTART;VALUE=DATE:20171010
DTEND;VALUE=DATE:20171012
DTSTAMP:20260422T131601
CREATED:20170419T192307Z
LAST-MODIFIED:20170419T192507Z
UID:7255-1507593600-1507766399@vieux.ivado.ca
SUMMARY:Forum FinTech Canada 2017
DESCRIPTION:Le Forum FinTech Canada\, présenté pour la 5e année consécutive\, est un événement annuel organisé par Finance Montréal dont l’objectif est d’identifier et faciliter le développement d’occasions d’affaires dans l’industrie des services financiers et des technologies de l’information. Le Forum FinTech vise également à découvrir des nouveaux talents\, accroître l’intérêt face aux nouvelles tendances en TI et aux défis de l’industrie financière\, en plus de contribuer à la visibilité de l’expertise que l’on retrouve au Canada en matière de technologies appliquées à la finance. \nL’intelligence artificielle dans les services financiers. Le Forum FinTech Canada couvrira l’intelligence artificielle appliquée à: \nPartenariats avec les start-up | Transformation long-terme de l’industrie | Insurtech | Cybersecurité | Les écosystèmes FinTech à travers le monde | Contrats intelligents | Journée Start-up \nPlus d’info >>
URL:https://vieux.ivado.ca/evenement/forum-fintech-canada-2017/
ATTACH;FMTTYPE=image/png:https://vieux.ivado.ca/wp-content/uploads/2017/04/FIntech-1.png
END:VEVENT
BEGIN:VEVENT
DTSTART;VALUE=DATE:20171010
DTEND;VALUE=DATE:20171012
DTSTAMP:20260422T131601
CREATED:20170420T145032Z
LAST-MODIFIED:20170420T145032Z
UID:7271-1507593600-1507766399@vieux.ivado.ca
SUMMARY:Re-Work Deep Learning Summit Montreal
DESCRIPTION:Meet the world’s leading experts driving the smart artificial intelligence revolution in the ‘Silicon Valley of Deep Learning’. \nDiscover advances in deep learning algorithms and methods from the world’s leading innovators. Learn from industry experts in speech & pattern recognition\, neural networks\, image analysis and NLP. Explore how deep learning will impact healthcare\, manufacturing\, search & transportation. \nA unique opportunity to interact with industry leaders\, influential technologists\, data scientists & founders leading the deep learning revolution. Learn from & connect with 450+ industry innovators sharing best practices to advance the smart artificial intelligence revolution. \nSilicon Valley of Deep Learning \n\n40 speakers\n250 leading technologists & innovators\nGroup brainstorming sessions\nInteractive workshops\n7 + hours of networking\nAccess to all the filmed presentations\nDiscover technology shaping the future\n\nMore info >>
URL:https://vieux.ivado.ca/evenement/re-work-deep-learning-summit-montreal/
ATTACH;FMTTYPE=image/png:https://vieux.ivado.ca/wp-content/uploads/2017/04/rework.png
END:VEVENT
END:VCALENDAR