BEGIN:VCALENDAR
VERSION:2.0
PRODID:-//IVADO - ECPv6.5.0//NONSGML v1.0//EN
CALSCALE:GREGORIAN
METHOD:PUBLISH
X-ORIGINAL-URL:https://vieux.ivado.ca
X-WR-CALDESC:évènements pour IVADO
REFRESH-INTERVAL;VALUE=DURATION:PT1H
X-Robots-Tag:noindex
X-PUBLISHED-TTL:PT1H
BEGIN:VTIMEZONE
TZID:America/New_York
BEGIN:DAYLIGHT
TZOFFSETFROM:-0500
TZOFFSETTO:-0400
TZNAME:EDT
DTSTART:20170312T070000
END:DAYLIGHT
BEGIN:STANDARD
TZOFFSETFROM:-0400
TZOFFSETTO:-0500
TZNAME:EST
DTSTART:20171105T060000
END:STANDARD
END:VTIMEZONE
BEGIN:VEVENT
DTSTART;VALUE=DATE:20170926
DTEND;VALUE=DATE:20170927
DTSTAMP:20260422T132000
CREATED:20170829T134624Z
LAST-MODIFIED:20190627T163106Z
UID:7730-1506384000-1506470399@vieux.ivado.ca
SUMMARY:Symposium IA Montréal
DESCRIPTION:Le Symposium IA Montréal vise à rassembler les experts et professionnels intéressés par les percées fondamentales et les applications de l’intelligence artificielle\, avec un focus sur les méthodes basées sur l’apprentissage automatique\, l’apprentissage profond\, ainsi que les approches apparentées. Le symposium se veut un forum rassemblant autant des participants académiques qu’industriels. Il cherche à bâtir des liens plus étroits entre les chercheurs de la région du grand Montréal. \nL’événement durera une journée\, avec des conférences plénières\, allocutions et présentation d’affiches\, ainsi qu’une période de réseautage. \nLe Symposium se tiendra le 26 septembre 2017 à l’École Polytechnique de Montréal. L’événement est gratuit pour les participants\, avec une inscription préalable obligatoire (disponible à partir du début-septembre). \nDate limite de soumission d’un résumé: 18 août 2017\nAvis d’acceptation: 5 septembre 2017\nDébut de la période d’inscription: 5 septembre\, 2017\nDate de l’événement: 26 septembre 2017 \nAppel aux contributions\nNous vous invitons à soumettre une contribution au premier Symposium IA Montréal. Nous encourageons la soumission d’un résumé de chercheurs œuvrant tant au niveau académique qu’industriel\, décrivant une contribution technique ou pratique\, un problème ouvert\, une application\, ou un énoncé de position. Il est acceptable de soumettre des travaux déjà présentés. Prière de n’inclure aucun élément confidentiel. \nLes sujets d’intérêt comprennent: \n\nRecherche fondamentale en apprentissage profond\, apprentissage par renforcement\, machines à noyaux\, modélisation Bayesienne\, méthodes ensemblistes\, optimisation pour apprentissage automatique;\nProblèmes d’implantation\, parallélisme\, plateformes logicielles et matérielles;\nApplications\, incluant en vision\, audio\, parole\, traitement de la langue\, robotique\, santé\, bioinformatique.\n\nLors du dépôt de votre soumission\, veuillez indiquer votre préférence de format (allocution courte ou affiche). Les résumés ne doivent pas dépasser 5000 caractères. \nDate limite de soumission: 18 août 2017. \nSoumettez votre résumé ici. \nAppel aux commanditaires\nAfin de permettre une inscription gratuite pour les participants\, l’organisation de cet événement est entièrement soutenue par des commanditaires. Les commanditaires au niveau “argent” ou supérieur bénéficient d’un espace dans l’aire commune afin d’afficher leurs activités et à des fins de recrutement. Nous accueillons des commanditaires additionnels au niveau “bronze”: \n5K$ – Platine (mention spéciale à l’ouverture\, mention sur le site web\, 1 table et 1 affiche) \n2.5K$ – Or (mention sur le site web\, 1 table et 1 affiche) \n1K$ – Argent (mention sur le site webs\, 1 table) \n250$ – Bronze (mention sur le site web) \nSi vous souhaitez commanditer le Symposium IA Montréal\, veuillez contacter les organisateurs.
URL:https://vieux.ivado.ca/evenement/symposium-ia-montreal/
ATTACH;FMTTYPE=image/png:https://vieux.ivado.ca/wp-content/uploads/2017/08/SymposiumIAMtl.png
END:VEVENT
END:VCALENDAR