BEGIN:VCALENDAR
VERSION:2.0
PRODID:-//IVADO - ECPv6.5.0//NONSGML v1.0//EN
CALSCALE:GREGORIAN
METHOD:PUBLISH
X-WR-CALNAME:IVADO
X-ORIGINAL-URL:https://vieux.ivado.ca
X-WR-CALDESC:évènements pour IVADO
REFRESH-INTERVAL;VALUE=DURATION:PT1H
X-Robots-Tag:noindex
X-PUBLISHED-TTL:PT1H
BEGIN:VTIMEZONE
TZID:America/New_York
BEGIN:DAYLIGHT
TZOFFSETFROM:-0500
TZOFFSETTO:-0400
TZNAME:EDT
DTSTART:20170312T070000
END:DAYLIGHT
BEGIN:STANDARD
TZOFFSETFROM:-0400
TZOFFSETTO:-0500
TZNAME:EST
DTSTART:20171105T060000
END:STANDARD
END:VTIMEZONE
BEGIN:VEVENT
DTSTART;TZID=America/New_York:20170724T080000
DTEND;TZID=America/New_York:20170730T170000
DTSTAMP:20260422T165447
CREATED:20170724T150517Z
LAST-MODIFIED:20170724T150636Z
UID:7492-1500883200-1501434000@vieux.ivado.ca
SUMMARY:Le défi d'intelligence conversationnelle NIPS cherche des évaluateurs humains
DESCRIPTION:Joignez-vous à la compétition ConvAI comme évaluateur humain pour créer une nouvelle génération de robot-clavardeurs vraiment intelligents\nLes systèmes de dialogue et les agents conversationnels – incluant les robot-clavardeurs\, les assistants personnels et les interfaces de contrôle vocal – sont de plus en plus répandus dans nos vie quotidiennes. Tout de même\, l’intelligence conversationnelle demeure un défi majeur non-résolu en intelligence artificielle. Le Défi d’intelligence conversationnelle ConvAI (http://convai.io) est parrainé par la conférence NIPS et co-organisé par l’Université de Montréal et le MILA. Le défi vise à créer un robot-clavardeur capable de tenir une conversation intelligente avec un partenaire humain. Les buts de la compétition sont l’évaluation de systèmes de dialogues à la fine pointe\, et la collecte d’un ensemble de données ouvertes pour l’entraînement de futurs systèmes. \nConvAI est à la recherche d’évaluateurs humains pour la première ronde qui sera tenue à distance les 24-30 Juillet 2017. Pour les détails\, voir le communiqué de presse en anglais qui suit. \nIVADO est très heureux de participer à la ConvAI à titre de partenaire argent!
URL:https://vieux.ivado.ca/evenement/defi-dintelligence-conversationnelle-nips-cherche-evaluateurs-humains/
END:VEVENT
END:VCALENDAR