BEGIN:VCALENDAR
VERSION:2.0
PRODID:-//IVADO - ECPv6.5.0//NONSGML v1.0//EN
CALSCALE:GREGORIAN
METHOD:PUBLISH
X-WR-CALNAME:IVADO
X-ORIGINAL-URL:https://vieux.ivado.ca
X-WR-CALDESC:évènements pour IVADO
REFRESH-INTERVAL;VALUE=DURATION:PT1H
X-Robots-Tag:noindex
X-PUBLISHED-TTL:PT1H
BEGIN:VTIMEZONE
TZID:America/New_York
BEGIN:DAYLIGHT
TZOFFSETFROM:-0500
TZOFFSETTO:-0400
TZNAME:EDT
DTSTART:20170312T070000
END:DAYLIGHT
BEGIN:STANDARD
TZOFFSETFROM:-0400
TZOFFSETTO:-0500
TZNAME:EST
DTSTART:20171105T060000
END:STANDARD
END:VTIMEZONE
BEGIN:VEVENT
DTSTART;TZID=America/New_York:20170607T090000
DTEND;TZID=America/New_York:20170608T190000
DTSTAMP:20260422T175937
CREATED:20170508T000322Z
LAST-MODIFIED:20191010T150424Z
UID:7320-1496826000-1496948400@vieux.ivado.ca
SUMMARY:Journées de philanthropie des données et lancement du Carrefour
DESCRIPTION:Le Carrefour de philanthropie des données est une initiative de l’Institut de valorisation des données (IVADO) et d’Aimia Inc. qui vise à mettre en relation les organismes à buts non lucratifs (OBNL)\, les universités et les entreprises dans une optique de formation et de transfert de connaissances dans le domaine de la science des données. \nSa mission est de : \n1. Participer au développement de pratiques socio-économiques autour de l’exploitation des données massives pour la prise de décision s’adressant aux OBNL.\n2. Développer des partenariats privilégiés entre les OBNL\, les milieux sociaux\, universitaires\, administratifs et la communauté des entreprises de Montréal et du Québec.\n3. Contribuer à l’avancement des connaissances et au transfert de celles-ci et former des scientifiques des données sensibles aux réalités et enjeux sociaux travaillant de pair avec les OBNL. \nLes premières activités du Carrefour ont été réalisées en collaboration avec le Partenariat du Quartier des spectacles (PQDS) et HEC Montréal. \nLes journées de philanthropie des données des 7 et 8 juin 2017 accueilleront près de 150 personnes et réunira des experts des données des milieux gouvernemental\, académique\, de la philanthropie et des affaires. Le lancement officiel du Carrefour se fera dans le cadre de cet événement. \nInscrivez-vous ici! Les places sont limitées. \nVous voulez commanditer l’événement? Contactez-nous! \nPROGRAMME \n7 juin\n9h30-10h – Accueil et pause santé\n10h-12h – Coup d’envoi du Carrefour de philanthropie des données et quatre classes de maître ouvertes à tous portant sur les composantes du « Data Storytelling » : 1) Support visuel ; 2) Visualisation des données ; 3) Vulgarisation et ; 4) Argumentaire de vente « pitch ». \n8 juin\n16h – Présentation des mandats réalisés avec des étudiants des HEC et le PQDS et Cocktail dînatoire de lancement du Carrefour.
URL:https://vieux.ivado.ca/evenement/journees-de-philanthropie-donnees/
LOCATION:HEC Montréal\, 3000\, chemin de la Côte-Sainte-Catherine\,  Montréal \, québec\, H3T 2A7\, Canada
ATTACH;FMTTYPE=image/jpeg:https://vieux.ivado.ca/wp-content/uploads/2017/05/BandeauEventbriteCarrefourPhil-e1494205620190.jpg
END:VEVENT
END:VCALENDAR