BEGIN:VCALENDAR
VERSION:2.0
PRODID:-//IVADO - ECPv6.5.0//NONSGML v1.0//EN
CALSCALE:GREGORIAN
METHOD:PUBLISH
X-WR-CALNAME:IVADO
X-ORIGINAL-URL:https://vieux.ivado.ca
X-WR-CALDESC:évènements pour IVADO
REFRESH-INTERVAL;VALUE=DURATION:PT1H
X-Robots-Tag:noindex
X-PUBLISHED-TTL:PT1H
BEGIN:VTIMEZONE
TZID:America/New_York
BEGIN:DAYLIGHT
TZOFFSETFROM:-0500
TZOFFSETTO:-0400
TZNAME:EDT
DTSTART:20170312T070000
END:DAYLIGHT
BEGIN:STANDARD
TZOFFSETFROM:-0400
TZOFFSETTO:-0500
TZNAME:EST
DTSTART:20171105T060000
END:STANDARD
END:VTIMEZONE
BEGIN:VEVENT
DTSTART;VALUE=DATE:20170419
DTEND;VALUE=DATE:20170420
DTSTAMP:20260422T205626
CREATED:20170419T144609Z
LAST-MODIFIED:20200120T194744Z
UID:7230-1492560000-1492646399@vieux.ivado.ca
SUMMARY:Shake IT Montréal
DESCRIPTION:Des sujets tels que l’apprentissage profond\, l’intelligence artificielle\, l’IOT\, le BI\, le nuagique\, les centres de données\, ERP\, et plus encore! … destinés aux dirigeant de haut niveau intéressés par l’accélération technologique dans un contexte de décisions stratégiques reliées aux transformations et à la croissance des organisations. \nNew City Gas : un des lieux les plus courus et festif de la ville transformé pour Shake IT Montréal !. \nPlus d’infos >>
URL:https://vieux.ivado.ca/evenement/shake-it-montreal/
ATTACH;FMTTYPE=image/png:https://vieux.ivado.ca/wp-content/uploads/2017/04/LOGO_Shake-IT_RGB_nom_date.png
END:VEVENT
END:VCALENDAR