BEGIN:VCALENDAR
VERSION:2.0
PRODID:-//IVADO - ECPv6.5.0//NONSGML v1.0//EN
CALSCALE:GREGORIAN
METHOD:PUBLISH
X-WR-CALNAME:IVADO
X-ORIGINAL-URL:https://vieux.ivado.ca
X-WR-CALDESC:évènements pour IVADO
REFRESH-INTERVAL;VALUE=DURATION:PT1H
X-Robots-Tag:noindex
X-PUBLISHED-TTL:PT1H
BEGIN:VTIMEZONE
TZID:America/New_York
BEGIN:DAYLIGHT
TZOFFSETFROM:-0500
TZOFFSETTO:-0400
TZNAME:EDT
DTSTART:20170312T070000
END:DAYLIGHT
BEGIN:STANDARD
TZOFFSETFROM:-0400
TZOFFSETTO:-0500
TZNAME:EST
DTSTART:20171105T060000
END:STANDARD
END:VTIMEZONE
BEGIN:VEVENT
DTSTART;TZID=America/New_York:20170412T080000
DTEND;TZID=America/New_York:20170412T140000
DTSTAMP:20260422T205626
CREATED:20170403T152034Z
LAST-MODIFIED:20190320T140302Z
UID:6979-1491984000-1492005600@vieux.ivado.ca
SUMMARY:Forum InnovAction 2017 sur l'intelligence numérique & big data
DESCRIPTION:IVADO est heureux de participer au Forum InnovAction 2017 sur l’Intelligence numérique & Big Data de l’ADRIQ qui se tiendra le 12 avril 2017 à l’Hôtel Hyatt Regency de Montréal. \nEn matière d’intelligence numérique et de big data\, le Québec possède-t-il toutes les ressources pour devenir le Silicon Valley de demain ? C’est à cette question que tentera de répondre ce Forum qui réunira plusieurs spécialistes du domaine. Gilles Savard\, directeur général d’IVADO\, animera un dîner conférence dans le cadre du Forum. \nProgramme et inscription >>
URL:https://vieux.ivado.ca/evenement/forum-innovaction-2017-lintelligence-numerique-big-data/
ATTACH;FMTTYPE=image/png:https://vieux.ivado.ca/wp-content/uploads/2017/04/bandeau-Forum-2017_IVADO.png
END:VEVENT
END:VCALENDAR