BEGIN:VCALENDAR
VERSION:2.0
PRODID:-//IVADO - ECPv6.5.0//NONSGML v1.0//EN
CALSCALE:GREGORIAN
METHOD:PUBLISH
X-WR-CALNAME:IVADO
X-ORIGINAL-URL:https://vieux.ivado.ca
X-WR-CALDESC:évènements pour IVADO
REFRESH-INTERVAL;VALUE=DURATION:PT1H
X-Robots-Tag:noindex
X-PUBLISHED-TTL:PT1H
BEGIN:VTIMEZONE
TZID:America/New_York
BEGIN:DAYLIGHT
TZOFFSETFROM:-0500
TZOFFSETTO:-0400
TZNAME:EDT
DTSTART:20160313T070000
END:DAYLIGHT
BEGIN:STANDARD
TZOFFSETFROM:-0400
TZOFFSETTO:-0500
TZNAME:EST
DTSTART:20161106T060000
END:STANDARD
END:VTIMEZONE
BEGIN:VEVENT
DTSTART;TZID=America/New_York:20161027T200000
DTEND;TZID=America/New_York:20161027T210000
DTSTAMP:20260423T042102
CREATED:20161024T144039Z
LAST-MODIFIED:20190627T162919Z
UID:5911-1477598400-1477602000@vieux.ivado.ca
SUMMARY:Du DIRO à Google
DESCRIPTION:Samy Bengio a réalisé toutes ses études universitaires (B.Sc\, M.Sc. et Ph.D.) au Département d’informatique et de recherche opérationnelle de l’Université de Montréal (DIRO). Il a ensuite travaillé plusieurs années à l’Institut de recherche IDIAP en Suisse\, jusqu’en 2007\, où il a joint Google en tant que chercheur. \nSes intérêts de recherche tournent autour de l’apprentissage automatique\, l’apprentissage profond\, et la représentation des données\, appliqués à des problèmes variés comme la compréhension de l’image\, la reconnaissance de la parole\, l’indexation de documents\, le traitement de séquences et de manière générale\, les problèmes d’apprentissage à grande échelle. \n\n\nEn utilisant le fil conducteur de la description automatique d’images\, il présentera plusieurs projets sur lesquels il travaille à Google: recherche d’images\, traduction automatique neuronale\, génération automatique de légende d’images et plusieurs autres. Il présentera également comment la recherche et les produits sont inter-reliés à Google. \nCette présentation est dans le cadre des Retrouvailles des diplômés du DIRO à l’occasion du 50e anniversaire de sa création.
URL:https://vieux.ivado.ca/evenement/diro-a-google/
LOCATION:Université de Montréal\, Pavillon Jean Coutu (S1-151)\, 2900 Boulevard Edouard-Montpetit\, Montréal\, Québec\, H3T 1J4\, Canada
ATTACH;FMTTYPE=image/jpeg:https://vieux.ivado.ca/wp-content/uploads/2016/10/google-logo-1200x630.jpg
END:VEVENT
END:VCALENDAR