BEGIN:VCALENDAR
VERSION:2.0
PRODID:-//IVADO - ECPv6.5.0//NONSGML v1.0//EN
CALSCALE:GREGORIAN
METHOD:PUBLISH
X-ORIGINAL-URL:https://vieux.ivado.ca
X-WR-CALDESC:évènements pour IVADO
REFRESH-INTERVAL;VALUE=DURATION:PT1H
X-Robots-Tag:noindex
X-PUBLISHED-TTL:PT1H
BEGIN:VTIMEZONE
TZID:America/New_York
BEGIN:DAYLIGHT
TZOFFSETFROM:-0500
TZOFFSETTO:-0400
TZNAME:EDT
DTSTART:20160313T070000
END:DAYLIGHT
BEGIN:STANDARD
TZOFFSETFROM:-0400
TZOFFSETTO:-0500
TZNAME:EST
DTSTART:20161106T060000
END:STANDARD
END:VTIMEZONE
BEGIN:VEVENT
DTSTART;VALUE=DATE:20160920
DTEND;VALUE=DATE:20160921
DTSTAMP:20260423T060712
CREATED:20160906T150545Z
LAST-MODIFIED:20190627T162148Z
UID:5850-1474329600-1474415999@vieux.ivado.ca
SUMMARY:Droit ouvert pour données ouvertes
DESCRIPTION:Les données ouvertes sont à la mode… Les potentialités économiques sont considérables. Les données sont la «monnaie» du numérique et les appétits se manifestent de tous bords tous côtés. Qu’elles soient publiques\, privées\, anonymisées\, hébergées dans les «nuages» ou non\, les enjeux juridiques se multiplient que ce soit en terme de vie privée\, de sécurité\, de contrat\, de responsabilité\, etc. \nFace à cette réalité\, il importe de considérer le droit comme un outil susceptible d’encadrer les meilleures pratiques en la matière. Néanmoins\, ce droit\, tout comme le domaine qu’il tente d’encadrer doit être ouvert afin d’être véritablement efficace. Un droit ouvert pour les données ouvertes; un droit qui puisse véritablement assurer une protection des usagers sans profiter seulement aux intérêts commerciaux.
URL:https://vieux.ivado.ca/evenement/droit-ouvert-donnees-ouvertes/
LOCATION:Plaza Montréal\, 420 Sherbrooke Ouest\, Montréal\, Québec\, Canada
END:VEVENT
END:VCALENDAR