BEGIN:VCALENDAR
VERSION:2.0
PRODID:-//IVADO - ECPv6.5.0//NONSGML v1.0//EN
CALSCALE:GREGORIAN
METHOD:PUBLISH
X-ORIGINAL-URL:https://vieux.ivado.ca
X-WR-CALDESC:évènements pour IVADO
REFRESH-INTERVAL;VALUE=DURATION:PT1H
X-Robots-Tag:noindex
X-PUBLISHED-TTL:PT1H
BEGIN:VTIMEZONE
TZID:America/New_York
BEGIN:DAYLIGHT
TZOFFSETFROM:-0500
TZOFFSETTO:-0400
TZNAME:EDT
DTSTART:20160313T070000
END:DAYLIGHT
BEGIN:STANDARD
TZOFFSETFROM:-0400
TZOFFSETTO:-0500
TZNAME:EST
DTSTART:20161106T060000
END:STANDARD
END:VTIMEZONE
BEGIN:VEVENT
DTSTART;TZID=America/New_York:20160502T080000
DTEND;TZID=America/New_York:20160504T170000
DTSTAMP:20260423T130321
CREATED:20160121T030709Z
LAST-MODIFIED:20200618T154138Z
UID:4338-1462176000-1462381200@vieux.ivado.ca
SUMMARY:Journées de l'Optimisation avec les Journées PROMÉTHÉE 2016
DESCRIPTION:Les Journées de l’Optimisation sont un événement annuel organisé en alternance par le Groupe d’Études et de Recherche en Analyse des Décisions (GERAD) et le Centre Interuniversitaire de Recherche sur les Réseaux d’Entreprise\, la Logistique et le Transport (CIRRELT). \nLes thèmes de ces Journées portent sur les théories\, les méthodes numériques et les applications de l’optimisation. Elles permettent aux chercheurs intéressés par ces domaines de se rencontrer et favorisent ainsi les échanges et la collaboration entre individus ou institutions de divers pays. \n 
URL:https://vieux.ivado.ca/evenement/journees-de-loptimisation-avec-les-journees-promethee-2016/
LOCATION:HEC Montréal\, 3000\, chemin de la Côte-Sainte-Catherine\,  Montréal \, québec\, H3T 2A7\, Canada
END:VEVENT
BEGIN:VEVENT
DTSTART;TZID=America/New_York:20160503T173000
DTEND;TZID=America/New_York:20160503T193000
DTSTAMP:20260423T130321
CREATED:20160419T154718Z
LAST-MODIFIED:20190627T162245Z
UID:5410-1462296600-1462303800@vieux.ivado.ca
SUMMARY:Rendez-vous Marketing : Marketing et le Big Data – L’expérience-client : enjeux et risques
DESCRIPTION:L’édition 2016 du Rendez-vous marketing vous propose des conférences sur un sujet d’actualité :«Le marketing et le Big Data – l’expérience-client\, enjeux et risques». Des conférenciers inédits présenteront leur vision qui vous permettra d’en apprendre plus sur les enjeux et les risques associés à ce type de marketing. La relation de confiance et l’image de marque sont des enjeux très importants lorsque les marketeurs décident de mettre à profit leur base de données\, pour le meilleur et pour le pire. \nCONFÉRENCIÈRES \n\nCharline Simon\, directrice générale analytiques avancées Aimia\nMe Nathalie David\, associée\, spécialiste en assurance de cyber-risque et la protection des données\, Clyde & Co\n\nPour toute question\, communiquez avec Marie Eve Leclerc
URL:https://vieux.ivado.ca/evenement/rendez-marketing-marketing-big-data-lexperience-client-enjeux-risques/
LOCATION:EY\, 800 Boulevard René-Lévesque O\,  Bureau 1900\, Montréal\, Québec\, Canada
ORGANIZER;CN="R%C3%A9seau HEC Montr%C3%A9al":MAILTO:reseauhec@hec.ca
END:VEVENT
END:VCALENDAR