BEGIN:VCALENDAR
VERSION:2.0
PRODID:-//IVADO - ECPv6.5.0//NONSGML v1.0//EN
CALSCALE:GREGORIAN
METHOD:PUBLISH
X-ORIGINAL-URL:https://vieux.ivado.ca
X-WR-CALDESC:évènements pour IVADO
REFRESH-INTERVAL;VALUE=DURATION:PT1H
X-Robots-Tag:noindex
X-PUBLISHED-TTL:PT1H
BEGIN:VTIMEZONE
TZID:America/New_York
BEGIN:DAYLIGHT
TZOFFSETFROM:-0500
TZOFFSETTO:-0400
TZNAME:EDT
DTSTART:20160313T070000
END:DAYLIGHT
BEGIN:STANDARD
TZOFFSETFROM:-0400
TZOFFSETTO:-0500
TZNAME:EST
DTSTART:20161106T060000
END:STANDARD
END:VTIMEZONE
BEGIN:VEVENT
DTSTART;TZID=America/New_York:20160427T110000
DTEND;TZID=America/New_York:20160427T120000
DTSTAMP:20260423T130320
CREATED:20160416T155645Z
LAST-MODIFIED:20160416T155645Z
UID:5401-1461754800-1461758400@vieux.ivado.ca
SUMMARY:La vision par ordinateur pour les drones intelligents : un survol
DESCRIPTION:Ces dernière années\, nous avons vu l’émergence de drones de petite taille et à faible coût ainsi qu’une explosion dans leur utilisation dans des domaines très divers. L’utilisation de drones combinée avec des techniques avancées de vision par ordinateur a permis l’émergence de nouvelles applications dans de nombreux secteurs\, dont : la sécurité et sûreté publique\, la construction\, la géomatique\,  l’énergie et l’agriculture.   \nDans ce séminaire\, nous ferons un bref survol des différentes terminologies\, des technologies disponibles ainsi que les dernières réglementations en vigueur au Canada. Nous présenterons quelques capacités de vision par ordinateur avec des exemples d’applications concrètes. Finalement\, nous parlerons des dernières tendances et les défis et enjeux anticipés dans ce domaine.
URL:https://vieux.ivado.ca/evenement/vision-ordinateur-drones-intelligents-survol/
LOCATION:CRIM\, 405\, avenue Ogilvy\, Montréal\, Québec\, Canada
END:VEVENT
END:VCALENDAR