BEGIN:VCALENDAR
VERSION:2.0
PRODID:-//IVADO - ECPv6.5.0//NONSGML v1.0//EN
CALSCALE:GREGORIAN
METHOD:PUBLISH
X-ORIGINAL-URL:https://vieux.ivado.ca/en/
X-WR-CALDESC:Events for IVADO
REFRESH-INTERVAL;VALUE=DURATION:PT1H
X-Robots-Tag:noindex
X-PUBLISHED-TTL:PT1H
BEGIN:VTIMEZONE
TZID:America/New_York
BEGIN:DAYLIGHT
TZOFFSETFROM:-0500
TZOFFSETTO:-0400
TZNAME:EDT
DTSTART:20160313T070000
END:DAYLIGHT
BEGIN:STANDARD
TZOFFSETFROM:-0400
TZOFFSETTO:-0500
TZNAME:EST
DTSTART:20161106T060000
END:STANDARD
END:VTIMEZONE
BEGIN:VEVENT
DTSTART;VALUE=DATE:20161017
DTEND;VALUE=DATE:20161020
DTSTAMP:20260421T211230
CREATED:20160610T153535Z
LAST-MODIFIED:20190627T172030Z
UID:5670-1476662400-1476921599@vieux.ivado.ca
SUMMARY:IEEE International Conference on Data Science and Advanced Analytics
DESCRIPTION:Following the first successful edition DSAA’2014 held in 2014 in Shanghai\, then the second successful edition DSAA’2015 held in Paris\, the 2016 IEEE International Conference on Data Science and Advanced Analytics (IEEE DSAA’2016)\, sponsored by the IEEE Computational Intelligence Society\, aims to provide a premier forum that brings together researchers\, industry practitioners\, as well as potential users of big data\, for discussion and exchange of ideas on the latest theoretical developments in Data Science as well as on the best practices for a wide range of applications. \nDSAA is also technically sponsored by ACM through SIGKDD. \nResearch and Applications\nIEEE DSAA’2016 will consist of two main Tracks: Research and Application; the Research Track is aimed at collecting contributions related to theoretical foundations of Data Science and Data Analytics. The Application Track is aimed at collecting contributions related to applications of Data Science and Data Analytics in real life scenarios. DSAA solicits then both theoretical and practical works on data science and advanced analytics. \nProf. Yoshua Bengio\, Prof. Juliana Freire and Prof. David Donoho will be keynote speakers.
URL:https://vieux.ivado.ca/en/events/ieee-international-conference-on-dsaa/
LOCATION:Montreal Marriott Chateau Champlain\, 1050 de la Gauchetiere West\, Montreal\, QC\, H3B 4C9\, Canada
END:VEVENT
END:VCALENDAR