BEGIN:VCALENDAR
VERSION:2.0
PRODID:-//IVADO - ECPv6.5.0//NONSGML v1.0//EN
CALSCALE:GREGORIAN
METHOD:PUBLISH
X-WR-CALNAME:IVADO
X-ORIGINAL-URL:https://vieux.ivado.ca/en/
X-WR-CALDESC:Events for IVADO
REFRESH-INTERVAL;VALUE=DURATION:PT1H
X-Robots-Tag:noindex
X-PUBLISHED-TTL:PT1H
BEGIN:VTIMEZONE
TZID:America/New_York
BEGIN:DAYLIGHT
TZOFFSETFROM:-0500
TZOFFSETTO:-0400
TZNAME:EDT
DTSTART:20160313T070000
END:DAYLIGHT
BEGIN:STANDARD
TZOFFSETFROM:-0400
TZOFFSETTO:-0500
TZNAME:EST
DTSTART:20161106T060000
END:STANDARD
END:VTIMEZONE
BEGIN:VEVENT
DTSTART;TZID=America/New_York:20160118T100000
DTEND;TZID=America/New_York:20160118T120000
DTSTAMP:20260422T104113
CREATED:20160114T014839Z
LAST-MODIFIED:20160207T230348Z
UID:5137-1453111200-1453118400@vieux.ivado.ca
SUMMARY:GERAD: Reverse Stackelberg games: Theory and applications in traffic control
DESCRIPTION:
URL:https://vieux.ivado.ca/en/events/gerad-reverse-stackelberg-games-theory-and-applications-in-traffic-control/
LOCATION:Université de Montréal\, Pavillon André-Aisenstadt\, Pavillon André-Aisenstadt\, Montréal\, QC\, H3T 1J4\, Canada
END:VEVENT
BEGIN:VEVENT
DTSTART;TZID=America/New_York:20160122T160000
DTEND;TZID=America/New_York:20160122T170000
DTSTAMP:20260422T104113
CREATED:20160121T031418Z
LAST-MODIFIED:20160207T230339Z
UID:5136-1453478400-1453482000@vieux.ivado.ca
SUMMARY:Big data & mixed-integer (nonlinear) programming
DESCRIPTION:Andrea Lodi – Full professor\, Canada Excellence Research Chair in Data Science for Real-Time Decision-Making\, Polytechnique Montréal.\nThis conference is in english. \n“In this talk\, I review a couple of applications on Big Data that I personally like and I try to explain my point of view as a Mathematical Optimizer — especially concerned with discrete (integer) decisions — on the subject. I advocate a tight integration of Data Mining\, Machine Learning and Mathematical Optimization (among others) to deal with the challenges of decision-making in Data Science. Those challenges are the core of the mission of the Canada Excellence Research Chair in “Data Science for Real-time Decision Making” that I hold.” Prof. Andrea Lodi.
URL:https://vieux.ivado.ca/en/events/big-data-mixed-integer-nonlinear-programming/
LOCATION:UQÀM\, Pavillon Président-Kennedy\, Salle PK 5115\, 201\, avenue du Président-Kennedy\, Montreal\, québec\, Canada
END:VEVENT
END:VCALENDAR