BEGIN:VCALENDAR
VERSION:2.0
PRODID:-//IVADO - ECPv6.5.0//NONSGML v1.0//EN
CALSCALE:GREGORIAN
METHOD:PUBLISH
X-WR-CALNAME:IVADO
X-ORIGINAL-URL:https://vieux.ivado.ca/en/
X-WR-CALDESC:Events for IVADO
REFRESH-INTERVAL;VALUE=DURATION:PT1H
X-Robots-Tag:noindex
X-PUBLISHED-TTL:PT1H
BEGIN:VTIMEZONE
TZID:Europe/Paris
BEGIN:DAYLIGHT
TZOFFSETFROM:+0100
TZOFFSETTO:+0200
TZNAME:CEST
DTSTART:20150329T010000
END:DAYLIGHT
BEGIN:STANDARD
TZOFFSETFROM:+0200
TZOFFSETTO:+0100
TZNAME:CET
DTSTART:20151025T010000
END:STANDARD
END:VTIMEZONE
BEGIN:VEVENT
DTSTART;VALUE=DATE:20150910
DTEND;VALUE=DATE:20150911
DTSTAMP:20260422T180555
CREATED:20160112T040644Z
LAST-MODIFIED:20190627T125103Z
UID:3958-1441843200-1441929599@vieux.ivado.ca
SUMMARY:Yoshua Bengio: Artificial Intelligence and Deep-Learning
DESCRIPTION:Conference of Yoshua Bengio\, full professor in Artificial Intelligence at the department of Computer Science and Operations Research of Université de Montréal \n 
URL:https://vieux.ivado.ca/en/events/yoshua-bengio-intelligence-artificielle-et-apprentissage-profond/
LOCATION:Université de Montréal\, Pavillon André-Aisenstadt\, Pavillon André-Aisenstadt\, Montréal\, QC\, H3T 1J4\, Canada
END:VEVENT
END:VCALENDAR