BEGIN:VCALENDAR
VERSION:2.0
PRODID:-//IVADO - ECPv6.5.0//NONSGML v1.0//EN
CALSCALE:GREGORIAN
METHOD:PUBLISH
X-WR-CALNAME:IVADO
X-ORIGINAL-URL:https://vieux.ivado.ca/en/
X-WR-CALDESC:Events for IVADO
REFRESH-INTERVAL;VALUE=DURATION:PT1H
X-Robots-Tag:noindex
X-PUBLISHED-TTL:PT1H
BEGIN:VTIMEZONE
TZID:America/New_York
BEGIN:DAYLIGHT
TZOFFSETFROM:-0500
TZOFFSETTO:-0400
TZNAME:EDT
DTSTART:20170312T070000
END:DAYLIGHT
BEGIN:STANDARD
TZOFFSETFROM:-0400
TZOFFSETTO:-0500
TZNAME:EST
DTSTART:20171105T060000
END:STANDARD
END:VTIMEZONE
BEGIN:VEVENT
DTSTART;TZID=America/New_York:20170307T170000
DTEND;TZID=America/New_York:20170307T210000
DTSTAMP:20260421T103725
CREATED:20170418T141711Z
LAST-MODIFIED:20170418T141711Z
UID:7172-1488906000-1488920400@vieux.ivado.ca
SUMMARY:Intersection vol. 2 : artificial intelligence (in French)
DESCRIPTION:Le printemps numérique vous invite le mardi 7 mars 2017 au CCA pour le deuxième volume de la série #intersections / transformations numériques. \nAu programme : un 5 à 9 consacré à l’intelligence artificielle (IA) en présence du guru belge de la discipline\, le professeur Hugues Bersini. \nCette soirée sera l’occasion d’une réflexion collective sur les opportunités et enjeux soulevés par cette discipline à vocation révolutionnaire. L’IA : Faut-il en avoir peur ? Dans quelle mesure transforme-t-elle nos vies\, nos emplois\, nos communautés ? Une plateforme de réseautage sera mise à votre disposition ainsi qu’une zone d’expérience de projets numériques. Buffet et boissons accompagneront les discussions.
URL:https://vieux.ivado.ca/en/events/intersection-vol-2-artificial-intelligence-in-french/
LOCATION:Centre Canadien d’Architecture
END:VEVENT
END:VCALENDAR