BEGIN:VCALENDAR
VERSION:2.0
PRODID:-//IVADO - ECPv6.5.0//NONSGML v1.0//EN
CALSCALE:GREGORIAN
METHOD:PUBLISH
X-WR-CALNAME:IVADO
X-ORIGINAL-URL:https://vieux.ivado.ca/en/
X-WR-CALDESC:Events for IVADO
REFRESH-INTERVAL;VALUE=DURATION:PT1H
X-Robots-Tag:noindex
X-PUBLISHED-TTL:PT1H
BEGIN:VTIMEZONE
TZID:America/New_York
BEGIN:DAYLIGHT
TZOFFSETFROM:-0500
TZOFFSETTO:-0400
TZNAME:EDT
DTSTART:20170312T070000
END:DAYLIGHT
BEGIN:STANDARD
TZOFFSETFROM:-0400
TZOFFSETTO:-0500
TZNAME:EST
DTSTART:20171105T060000
END:STANDARD
END:VTIMEZONE
BEGIN:VEVENT
DTSTART;TZID=America/New_York:20170204T100000
DTEND;TZID=America/New_York:20170205T190000
DTSTAMP:20260421T115022
CREATED:20161108T030453Z
LAST-MODIFIED:20190627T125429Z
UID:6627-1486202400-1486321200@vieux.ivado.ca
SUMMARY:Hackatown 2017
DESCRIPTION:Hackatown is a 24 hours-contest on the theme of smart cities. We live today in a world with a abundance of data. Data regarding transport or restaurant ratings are now all over the internet and accessible. However\, ost of that data remain confined in forgotten databases and their utility is restricted. \nWe want you to present how you would significantly improve life in your city!
URL:https://vieux.ivado.ca/en/events/hackatown-2017/
LOCATION:Polytechnique Montréal\, 2500 chemin de la Polytechnique\, Montréal\, Québec\, H3T1J4\, Canada
ATTACH;FMTTYPE=image/png:https://vieux.ivado.ca/wp-content/uploads/2016/11/Capture-d’écran-2016-11-07-à-22.04.05.png
END:VEVENT
END:VCALENDAR