BEGIN:VCALENDAR
VERSION:2.0
PRODID:-//IVADO - ECPv6.5.0//NONSGML v1.0//EN
CALSCALE:GREGORIAN
METHOD:PUBLISH
X-ORIGINAL-URL:https://vieux.ivado.ca/en/
X-WR-CALDESC:Events for IVADO
REFRESH-INTERVAL;VALUE=DURATION:PT1H
X-Robots-Tag:noindex
X-PUBLISHED-TTL:PT1H
BEGIN:VTIMEZONE
TZID:America/New_York
BEGIN:DAYLIGHT
TZOFFSETFROM:-0500
TZOFFSETTO:-0400
TZNAME:EDT
DTSTART:20160313T070000
END:DAYLIGHT
BEGIN:STANDARD
TZOFFSETFROM:-0400
TZOFFSETTO:-0500
TZNAME:EST
DTSTART:20161106T060000
END:STANDARD
END:VTIMEZONE
BEGIN:VEVENT
DTSTART;TZID=America/New_York:20160510T173000
DTEND;TZID=America/New_York:20160510T210000
DTSTAMP:20260422T062902
CREATED:20160427T145126Z
LAST-MODIFIED:20191015T123904Z
UID:5492-1462901400-1462914000@vieux.ivado.ca
SUMMARY:Big data dans le domaine de la santé
DESCRIPTION:Les opportunités et les défis du big data dans le domaine de la santé\nPour cette édition du Hacking Health Café\, nous avons réuni des professionnels de l’industrie de la santé et des chercheurs universitaires pour discuter de l’innovation dans le domaine de santé possible avec le big data\, les données ouvertes et l’intelligence artificielle. \nNe manquez pas cette opportunité d’apprendre davantage de l’expérience de plusieurs professionnels de la recherche et de l’industrie. Vous aurez également la chance de leur poser des questions durant le panel de discussion! \nComment tirer avantage des données existantes dans votre organisation? Participez au Health Hacking Cafe le 10 mai pour découvrir toutes les opportunités et les défis du big data. \nHacking Health est fier de s’associer à L’institut de valorisation des données (IVADO)\, le regroupement le plus performant en publications au monde sur la recherche opérationnelle et le deep learning. \nLes présentations du HH Café auront lieu à l’amphithéâtre Justine Lacoste du CHU Sainte-Justine. \n  \nConférenciers\nJonathan Vallée\, Directeur Données Scientifiques\, AlayaCare – www.alayacare.com \nLouis-Martin Rousseau\, Professeur\, Polytechnique Montréal \nJoseph Tcherkezian\, Chercheur Associé\, Cartagene – www.cartagene.qc.ca \nSébastien Lemieux\, chercheur\, IRIC (Institut de recherche en immunologie) – www.iric.ca   \nNicolas Chapados\, conseiller scientifique en chef\, Imagia – www.imagia.com \n 
URL:https://vieux.ivado.ca/en/events/opportunites-defis-big-data-domaine-de-sante/
LOCATION:Amphithéâtre Justine Lacoste – CHU Sainte-Justine\, 3175 Chemin de la Côte-Sainte-Catherine\, Montréal\, QC\, H3T 1C4\, Canada
ATTACH;FMTTYPE=image/png:https://vieux.ivado.ca/wp-content/uploads/2016/04/logo.png
END:VEVENT
END:VCALENDAR