BEGIN:VCALENDAR
VERSION:2.0
PRODID:-//IVADO - ECPv6.5.0//NONSGML v1.0//EN
CALSCALE:GREGORIAN
METHOD:PUBLISH
X-ORIGINAL-URL:https://vieux.ivado.ca/en/
X-WR-CALDESC:Events for IVADO
REFRESH-INTERVAL;VALUE=DURATION:PT1H
X-Robots-Tag:noindex
X-PUBLISHED-TTL:PT1H
BEGIN:VTIMEZONE
TZID:America/New_York
BEGIN:DAYLIGHT
TZOFFSETFROM:-0500
TZOFFSETTO:-0400
TZNAME:EDT
DTSTART:20160313T070000
END:DAYLIGHT
BEGIN:STANDARD
TZOFFSETFROM:-0400
TZOFFSETTO:-0500
TZNAME:EST
DTSTART:20161106T060000
END:STANDARD
END:VTIMEZONE
BEGIN:VEVENT
DTSTART;TZID=America/New_York:20160316T090000
DTEND;TZID=America/New_York:20160316T170000
DTSTAMP:20260422T092054
CREATED:20160207T232132Z
LAST-MODIFIED:20190627T162827Z
UID:5146-1458118800-1458147600@vieux.ivado.ca
SUMMARY:DIRO's Women in computer sciences day
DESCRIPTION:Conference and networking: \nInterested in a career in computer sciences? Join us for the DIRO Women’s day on March 16th\, 2016 to meet passionate and inspirational women\, that are currently working in the field of computer sciences and information technology as researchers or employees of prestigious companies such as Google and Ubisoft. \nWhen : Wednesday 16th of March\, from 9AM to 5PM\nWhere : Université de Montréal\, Pavillon André-Aisenstadt (Montréal)\nPrice : Free ! Lunch included. \nFor more information on the event: \nOfficial page (in French)
URL:https://vieux.ivado.ca/en/events/diros-women-in-computer-sciences-day/
LOCATION:Université de Montréal\, Pavillon André-Aisenstadt\, Pavillon André-Aisenstadt\, Montréal\, QC\, H3T 1J4\, Canada
END:VEVENT
END:VCALENDAR